Package: ggtree Version: 3.15.0 Command: /home/rapidbuild/bbs-3.21-bioc-rapid/R/bin/R CMD build --keep-empty-dirs --no-resave-data ggtree StartedAt: 2025-02-09 06:59:34 -0500 (Sun, 09 Feb 2025) EndedAt: 2025-02-09 06:59:43 -0500 (Sun, 09 Feb 2025) EllapsedTime: 9.0 seconds RetCode: 0 Status: OK PackageFile: ggtree_3.15.0.tar.gz PackageFileSize: 353.2 KiB