Package: ggtree Version: 3.15.0 Command: /home/rapidbuild/bbs-3.21-bioc-rapid/R/bin/R CMD check --install=check:ggtree.install-out.txt --library=/home/rapidbuild/bbs-3.21-bioc-rapid/R/site-library --timings ggtree_3.15.0.tar.gz StartedAt: 2025-02-04 14:35:16 -0500 (Tue, 04 Feb 2025) EndedAt: 2025-02-04 14:36:00 -0500 (Tue, 04 Feb 2025) EllapsedTime: 44.0 seconds RetCode: 0 Status: OK CheckDir: ggtree.Rcheck Warnings: 0