Package: ggtree Version: 3.15.0 Command: /home/rapidbuild/bbs-3.21-bioc-rapid/R/bin/R CMD INSTALL ggtree StartedAt: 2025-02-04 12:15:45 -0500 (Tue, 04 Feb 2025) EndedAt: 2025-02-04 12:15:53 -0500 (Tue, 04 Feb 2025) EllapsedTime: 8.2 seconds RetCode: 0 Status: OK