Package: hpar Version: 1.49.0 Command: /home/rapidbuild/bbs-3.21-bioc-rapid/R/bin/R CMD build --keep-empty-dirs --no-resave-data hpar StartedAt: 2025-02-10 07:07:28 -0500 (Mon, 10 Feb 2025) EndedAt: 2025-02-10 07:08:24 -0500 (Mon, 10 Feb 2025) EllapsedTime: 56.0 seconds RetCode: 0 Status: OK PackageFile: hpar_1.49.0.tar.gz PackageFileSize: 885.4 KiB