Package: hpar Version: 1.49.0 Command: /home/rapidbuild/bbs-3.21-bioc-rapid/R/bin/R CMD INSTALL hpar StartedAt: 2025-02-10 06:22:01 -0500 (Mon, 10 Feb 2025) EndedAt: 2025-02-10 06:22:15 -0500 (Mon, 10 Feb 2025) EllapsedTime: 13.4 seconds RetCode: 0 Status: OK