Package: interactiveDisplay Version: 1.45.1 Command: /home/rapidbuild/bbs-3.21-bioc-rapid/R/bin/R CMD build --keep-empty-dirs --no-resave-data interactiveDisplay StartedAt: 2025-02-05 07:06:19 -0500 (Wed, 05 Feb 2025) EndedAt: 2025-02-05 07:07:07 -0500 (Wed, 05 Feb 2025) EllapsedTime: 48.0 seconds RetCode: 0 Status: OK PackageFile: interactiveDisplay_1.45.1.tar.gz PackageFileSize: 4.561 MiB