Package: interactiveDisplay Version: 1.45.1 Command: /home/rapidbuild/bbs-3.21-bioc-rapid/R/bin/R CMD check --install=check:interactiveDisplay.install-out.txt --library=/home/rapidbuild/bbs-3.21-bioc-rapid/R/site-library --timings interactiveDisplay_1.45.1.tar.gz StartedAt: 2025-02-05 09:01:02 -0500 (Wed, 05 Feb 2025) EndedAt: 2025-02-05 09:04:14 -0500 (Wed, 05 Feb 2025) EllapsedTime: 192.7 seconds RetCode: 0 Status: OK CheckDir: interactiveDisplay.Rcheck Warnings: 0