Package: interactiveDisplay Version: 1.45.1 Command: /home/rapidbuild/bbs-3.21-bioc-rapid/R/bin/R CMD INSTALL interactiveDisplay StartedAt: 2025-02-05 06:24:29 -0500 (Wed, 05 Feb 2025) EndedAt: 2025-02-05 06:24:48 -0500 (Wed, 05 Feb 2025) EllapsedTime: 19.4 seconds RetCode: 0 Status: OK