Package: minet Version: 3.65.0 Command: /home/rapidbuild/bbs-3.21-bioc-rapid/R/bin/R CMD build --keep-empty-dirs --no-resave-data minet StartedAt: 2025-02-10 07:15:12 -0500 (Mon, 10 Feb 2025) EndedAt: 2025-02-10 07:15:13 -0500 (Mon, 10 Feb 2025) EllapsedTime: 1.0 seconds RetCode: 0 Status: OK PackageFile: minet_3.65.0.tar.gz PackageFileSize: 50.13 KiB