Package: pRoloc Version: 1.47.1 Command: /home/rapidbuild/bbs-3.21-bioc-rapid/R/bin/R CMD build --keep-empty-dirs --no-resave-data pRoloc StartedAt: 2025-02-10 07:23:29 -0500 (Mon, 10 Feb 2025) EndedAt: 2025-02-10 07:28:43 -0500 (Mon, 10 Feb 2025) EllapsedTime: 314.2 seconds RetCode: 1 Status: ERROR PackageFile: None PackageFileSize: NA