Package: pRoloc Version: 1.47.1 Command: /home/rapidbuild/bbs-3.21-bioc-rapid/R/bin/R CMD check --install=check:pRoloc.install-out.txt --library=/home/rapidbuild/bbs-3.21-bioc-rapid/R/site-library --timings pRoloc_1.47.1.tar.gz StartedAt: 2025-02-10 03:26:06 -0500 (Mon, 10 Feb 2025) EndedAt: 2025-02-10 03:46:20 -0500 (Mon, 10 Feb 2025) EllapsedTime: 1214.2 seconds RetCode: 0 Status: WARNINGS CheckDir: pRoloc.Rcheck Warnings: 4