Package: pRoloc Version: 1.47.1 Command: /home/rapidbuild/bbs-3.21-bioc-rapid/R/bin/R CMD INSTALL pRoloc StartedAt: 2025-02-10 06:25:08 -0500 (Mon, 10 Feb 2025) EndedAt: 2025-02-10 06:27:36 -0500 (Mon, 10 Feb 2025) EllapsedTime: 147.5 seconds RetCode: 0 Status: OK