Package: scrapper Version: 1.1.12 Command: /home/rapidbuild/bbs-3.21-bioc-rapid/R/bin/R CMD build --keep-empty-dirs --no-resave-data scrapper StartedAt: 2025-02-05 07:36:43 -0500 (Wed, 05 Feb 2025) EndedAt: 2025-02-05 07:37:56 -0500 (Wed, 05 Feb 2025) EllapsedTime: 73.0 seconds RetCode: 1 Status: ERROR PackageFile: None PackageFileSize: NA