Package: scrapper Version: 1.1.12 Command: /home/rapidbuild/bbs-3.21-bioc-rapid/R/bin/R CMD check --install=check:scrapper.install-out.txt --library=/home/rapidbuild/bbs-3.21-bioc-rapid/R/site-library --timings scrapper_1.1.12.tar.gz StartedAt: 2025-02-05 03:28:10 -0500 (Wed, 05 Feb 2025) EndedAt: 2025-02-05 03:35:48 -0500 (Wed, 05 Feb 2025) EllapsedTime: 457.8 seconds RetCode: 0 Status: OK CheckDir: scrapper.Rcheck Warnings: 0