Package: OSCA.advanced Version: 1.15.0 Command: /home/biocbuild/bbs-3.21-bioc/R/bin/R CMD build --keep-empty-dirs --no-resave-data OSCA.advanced StartedAt: 2025-02-10 10:17:08 -0500 (Mon, 10 Feb 2025) EndedAt: 2025-02-10 11:37:06 -0500 (Mon, 10 Feb 2025) EllapsedTime: 4798.1 seconds RetCode: 1 Status: ERROR PackageFile: None PackageFileSize: NA