Package: OSCA.advanced Version: 1.15.0 Command: /home/biocbuild/bbs-3.21-bioc/R/bin/R CMD INSTALL OSCA.advanced StartedAt: 2025-02-12 10:16:23 -0500 (Wed, 12 Feb 2025) EndedAt: 2025-02-12 10:17:04 -0500 (Wed, 12 Feb 2025) EllapsedTime: 41.1 seconds RetCode: 0 Status: OK