Package: OSCA.multisample Version: 1.15.4 Command: /home/biocbuild/bbs-3.21-bioc/R/bin/R CMD build --keep-empty-dirs --no-resave-data OSCA.multisample StartedAt: 2025-02-12 10:17:10 -0500 (Wed, 12 Feb 2025) EndedAt: 2025-02-12 11:53:28 -0500 (Wed, 12 Feb 2025) EllapsedTime: 5778.4 seconds RetCode: 0 Status: OK PackageFile: OSCA.multisample_1.15.4.tar.gz PackageFileSize: 11.23 MiB