Package: OSCA.multisample Version: 1.15.4 Command: /home/biocbuild/bbs-3.21-bioc/R/bin/R CMD INSTALL OSCA.multisample StartedAt: 2025-02-10 10:15:46 -0500 (Mon, 10 Feb 2025) EndedAt: 2025-02-10 10:16:12 -0500 (Mon, 10 Feb 2025) EllapsedTime: 26.4 seconds RetCode: 0 Status: OK