]r۸z 63!ERDN\e3Lr~(8Hc<'nHْ@%I .ݍFKG~fR UeVjw~QKղRN[mOc]B~N36-cNe4lmځZ*]:={k7N#Fˤt(k*ȅRwO"2X`s.֧O, (dާ M4E+K&)EjEHJYQț ~Gg 0H ehG󈙡Pf ?N(||[+YS xѫVVs?ovƶ?fpOIVyu]dUrS)etp8da=ήJ9yY_mOQ Iyw6PCǢM*i ᾯV$7K vĀ]s K;uitxY](GKFwFd_Bl2L\ RgQgBFOz~HBIQVCCICyq`ʧ +KƼk>SkBk6Iz=1nwNǿy>9ٯϲJFfF~urS^m3EkLkdRu(6D$?dHu-qzx e" KT>MA8K!!E[cb>ݾiK(rX墬HqpO ]\M\?ɛV.{$g$ wL|ÿfxC. F u`ɄX*%AE'v|B]4/Ǘ0Jgg}h&9&Yq4U!pAhfqo 1I<Rk?G 5 SU&8GU, |pfT>MrBһ? -xx#<\XOэOyӆ1-9810F{kF7ވv%V} n\?[;=&iY` sƲBmcBOƞۏc?ǃ3b㽖RIMfQS2=8|JUvIK nuR pAv0mr`;<|:$oܗ#[w@}s'R#@;zE~GC|l7m;<}-/K T1=?@6 a o$ nv)k@i*I墬Z,*1ʥlW-6^ Y5*[j &c>Kq~+b A}=;?jK0䏂gNS(]W@ѨWaKu7sƿy-23̞iA5"V擲.DlUY-js|>">Do+tpY)WZGP:pmF@c)гw7ȝ1cIG2ZW3+pyM\ 3Re0WlycoƮYxyAѱ1ZmX+tw@K:f7!X ֬!{]P<cũU%=J֔~F8<xvI-`13)?Z{Ux ՁX?b؛*S ӕ?e2,dCgQЧ<7A77>G>zټI5 ՟3!Ž/t]x_e3a9ؿ~2w{S;.65wx3݂fl4Nj [.(I2w@ k 7oN19Ԅ3wחGv?kQjS%=C /҉ PPK\E&8t[X}>A߹鹏u@f+ ux9-_kxžHcY=ƜC5>x n ` \^J:.uxO:E=rk+nZPKYq&_`7|Ctص{Ԡ# [5;y@sy8 }P|3vi+ή.I+2ifGG,Xoa+|Kz@)K5uwtTL0[>7w-H5W|<5ę zHn/Vz/y o zFtONZoZ^&r&7QMbeoX{d (tl1;YCFV.Ք\Kv ս_:G93pj^v&s+s K'`vNNM7MS &NNHĸRʏy7D"slui tRAZe0}?14.lކbr\ZIu$Vwz8)/|(ķ<,aI/.wE_bw,*rw^l'? O{43{ O^ Y@ ou gBIJxЄ'v3H-#GD2L %I Je ])5$nԴr=++E#C{P> $![$T_-ߛxU0O),L7"n. t(p [C%6ᱥ?{KF!O-^k|eR_G f\,jPsi=Μ&P#h`Cp'Ց- hP,0{)p<D)"AF ERvv.{c)W.?UMz7 P @8 ; (@ P Bad? (=@ \k.0@ 0dA|B|P]I}2W,xY8,D92aNYw#֓-FV3C+-yB%0-R^bo/>k=(w`Cb"/}#L+k"*bbbti,|ZסrtDڂ>Z3n[Kϴuk녕aMcX3# emfޱ~ת;I?ҴD kϿ*Պ]UK1 T ;W;I֋6_P4)))_Ujc&LĪ2f?*bJIv +U*[JE֩sy.nkJMF3g4=ߓ;rޜvB۬Paue ;?7n6T+3ZiK_^{zx-S]F=D/0hKy۽"{PdwC.BP!"T6Cod' +_v=6:L-U8G^!N g ]D0 `j"FTgeHe]l=:ŠԊ;>%mۆ[TE>L'Z+Uf=|nüW]?ے,=aVݝ{;ngr=p穊Z9yq+v_r-C^nB݋3s{\{'u/ BJ?Z)Tݤsn)Qarg4dTy! X&0L{8i>hjY|e'8! , ,NlNr?YOYO^Ƣ& }з+|3 N}fʟ Kϸ(k=E1ȲoleW8#xG5'> ~),\ʪ_J> 5}Q6ۋ.|կZ0$\CQngߊE4Kl^ߪ4v^Xm'? O{$>þ'? Gd? (?m[yo.?-E0D#"&$~G%Pd'n08Z+kʇ'{e"WdSg$$1[qW>LY[Y-ߛxU0O)G7n-6`8q/PlAɍB?[x:ޒ,oŒ!jɐ[Uj"% y,z邶'BMIt3DK+,C}e2]:{隂&PfL6ɠ=#ry|QooŢņ*)'0߮4_T7P}WUUv?lt{O}bWQJR UE$qc갹hT#95v) >"T:-x8kdIsʰB%Y2َ.n L?`6>2Єh#p^"O\ ֖RTEZmC{{մ/HBl:e[Tز@[ǤH+Xմ&-yy"z'Rr:\8_Qr̞\Cٕ8:ޑ Or`s 8oW- Iڰ>hhh+_Tb͝nG,z\2X H %xFMUŊ,p&+M8fZ}K'䧛f;9XdVeⅱsSS{*; bel\zլtzRU;D~D~I ܴj 75WM)R.@.qAZ5.93>hnnOZlRl+_{<MGZZ8պ]&vˋYGL$ظX 72 }R z-V' =luemkmx%)!/92T_c,TgI343O]7$(z˿C%|2Ead甖.V=fkjj2`$37evNhJ64l?*V,&n? xQm32W Hsj:d|8 >+ݝ\BcOs(Q*,\vOOtn>uUv0v8nI(N3 +0"? 8:u%I嬅ʕWAR.3?EIH@R<;Nô~r9ޖ]% @HF.Na`a[Z/^6ۧj.sVs"Iw.u<WԃALe'[p_Rx k/X6~@)fP]yG[oH@ၔg7.9/@)-bw7n 0yZK{\d8ޝk:HwbGP}HR9nB2{?ُң"[#٥%E)7 }XƆצ{j4r%'-htG(={b^7Xt7SH`>TN\Y3i]Wf䬝lcRi;1M,uxB#+_oՒ}ϛxlS<"T\>둰d8<+ u/s Q :nj}9dbM *py݁&3SM!C%񆣾WFb׬@Gܓiaڲv:ӱ=:C5庬D͗NyDVYNm-du$1i.OiѦ8S#)Pȶo/n9|j`rjFqm›]Y=>!Nx./<aӽUǝ;he_վ9 #/٥@lk衼ǑyǕ=yxF+дPG>Z^K,SLXH6_>@]$^=9;;dŌRz̢!{GGLS Rr2O nu;̛I><{}|гƦl 9Aӡ5d!8q c=Wq,f.XP^=a.+͈p584-pE:wd>ῥOLFKfSx޼q1-~nedgaI{M]+ Dw؏ZPPSSa^0c$j|VQx}" Z94xzuN]e6mbEFJڍxڔF)jh}?zD|laq,d~/2 }kU(Na!ѐfuCGUF|' >FZ!py~`cvZ=oL˚d<ـqss 16:Y~.C5"./өiw5xtiCcn*8<CG%Z3VAY1)8g5SSvW܇feW9Dk_536|8f֟R$pR\¢޵Qk,ipyrJVImّ[oOu1~24|Q8۷aEyy 5sK_f"G'>]'tӚ`qe^3O}lO;.챚ǃL^W;;I4cXRoP3͹=Y CϨokIB\Sz-~+坱tG"ϜOl]مwP|Y|gһQ'lmh,Ä%fYg+/{wq̺H m+CpV:W~hxvp}ӅwѢv4>yeqsoMktB4> ~rBM,[Bn8^뿼cIQ~((8H:z(J$z:ĻJ!#gT9{rëZH]߿L@39> 3nSd:6O lk9%fdUȠF2{ջ2VჁȱE4(aQor(KKlXx$HtڶZ իoV Ӈ>މi*r2Ƈ>/. چ+D*a"2çE}ͣ#Q!gOBwAPd#BY ~̫s9wRwn[$q+-aEYrEjq[v-e*a*mIDcuY}~a) MҝUCsjCgY5etuQM$z7?`EcR g^6{e|,A`.%^,b+ 0y2<nITO(=e6ԵV!ǒ<baWjZJj2Zړey5}NDvaK7Rؽl&]Zū#9l!GmDĒSLV^ p^Z$NPpD56ۏhYyXo9Xr75/C@G)* aw7D@ܜ uf4g N%:uRőgǹ!*wxz1 !8VB&^W$]y~JY\<1fB0Ou㑷gΖE <V;y$rtZg+ј'H!}JPէ r=7=˼Olq~)>E#M\x[^ ۣ[8oz!O慐)w,ޮC4&FpYv"ߗ#٫= "hsSe#,jwX/= Y!1JfD|MoVW͕C\ڦ~e`ԘYB(dcRN+W vp8y_ .Y(2jXV 'Ϫs混E]z6x:vC$::u7, nWB ;A#?+r}r\v{ 3Kx΢DZ)&pۛDw0&P㶛&%FbOX=$ &tU`͔gtM62WkǽHݏRhW rAolr6;Nhٳ>U7XK[+ 5PpWN*|ҳEF#*=Ѿ心@C%Me|[pq#%Nj2}ǽr]:οU5]]Yg^מTLFo?wL~KC]/(+*zO:w7kaY2,j.p;vlC)(Y׮%PNOK=Ӡf ::E۟_a5r<ȸk7M"Ѽ6Sl '[Ӂ06n蔹%j`˿DW^僴r4dsq4y~/+\<ñH3e[Ռ˲XW;}( % ,k鸼/tzf|n/ށK+tsbj22ӡO}~qZ{ųёy^m֨vLīqN{%l9/JX|8=t!=L=-gZZZ^]\0X:O6o>o^1a 2;P`WCk.eOXCiΏgH6 V_D"B»iޖ\&"&gۑ֗Kĵ\&L1 6ב~2:iY!D]9cA-X9dt,xU>4lTgtO$v1hIw[[6C^{†)vA9ofzL[NTxGR:+쑇aaAwt]+9b<'h褖vr'$*!$R5&.+>#fr͌30("V]LVY|PJpAf_o[ ~E>zVP&SNe# 1 $U$Q?wƓ0@!]2QdmIwH[nsJ,&~p)|;Ɣs8cGX< >_; X_5$wV_d?V 8ۨR5q9 J/9urJ>qa9l,+͂ZO'Gd@9֮0s݄q~áԊsn% .eQKwҢBǏEMw< |iPG@ >ii _ׇ)s{K $x9̫Jr7kgg^5=<_ۺ@asv H//956rԩ iV5H```PVMޣ~f|2x)x%iصL_Ѭ_Sm687Fdsv1ҳnq މSE˟C޸KOYoGQriK7`ykL vϏ?xj*\9$|nvXsJ>vKGrs\ge5Ƨe!v-[4( 2sbLsl=}?jǝ:"mF5wǨ޻$xZ@̇ }D>wV*~8S@2QJ)XZV"FF\y$Y-91. (M)ۧ]O&$S&f `E*CCj8Tm]|x~u>h|y;j1'T ÈϫSTR)(Nzcn泡WYVf⧺lJ>7M g/`xAxiƇ3򫷨3noMQk}XKsWiQǗCx)Fioph+Bk[y{VWH#oHHH+Cc=7k;__~p{$¶?n땔v-$р[kCvTGyƝv@HrP\(b6.< <5UO:=P>?euua[ēYO s]t^YC`^ .Ix ]Ŗ)bQm0lB୷M!ė?I/Ru"<=-}M=9Uͭ!k[.P$1Bf%[O`>;VDAqp"#D`LSA "OdzF*Oz}~-([R@Dl?#h/p$ax3<k<"wHۗP$lB? E|;OV1#!B|spnQ<" G|ね7r%߆O ذ,)9`6u?Og%T7ކ.nzDtL<";y]#Gayd3\@Lt|& T^~_;E<5G7nm:5sOgc8I:`O#m6Or}v8u?Yן@鿟?<+&z<۩QD95b@uhJqH]h7z~Ljy<ATo9u~bc8_}dfֽJfg'gԙWUGh>[^uϷYO-/lx{lu( qxy=dOw,ᅪHUpJzvƟM+q@T{{,6{{̄:/(KĻko?bǫd3 t{ rg*VGtL<( jh6/tnrAWGۻ'N~j2!z塌jTOgo6ʼn{3^tYo̎g \`[ J~G bG»`.y"ۈZ2o;z7ppĉg=?]j mZfK~\Ou)b|<DpJ8΃M/?A{x2p冗8xsI{'R~v/RU?~RyeS\ J]\*a<|s_fYt˛@j?:6>rH4x(?+Lmu t9jHG$\]$}>߿7G?D"MGʿD5<;ޛuḓmx(H9 -vތD k:KW= ҌOG^Sw^odۑG-~-BpŨ<ggYmax5t콿Aë~vyVM[46#s@w00#dJzшoe]=<"]#/[:/2MUoei|@vxcTƒx@}Hx6]`o&y8i|瀿g3LeS %xpx 7ˊ /J-赞{Z ?XJLz+'ћ>4=_)kdF`YZt=&x9Sn8xu47zAo>$m-k{W*ǟl_;vx/||lg Ndw^#tWyG d-| 8ŧ j-؆D/:;Kp~*B? Ou&SC|2]2{ڵw^Uziק~Pތ];x G>Bcy`ZW9CA=lJcm@E] zH^?RiiQvW ^f:|1ϠOi@O'3K5ȟ4[]@J]2-.%NC/thgP>啵e`kpËF#?u3KY1z:>U'" χ兇,)wh޼Xs~`fM1kcTF*z)ߓ%S<2zzmIưx~"YO m8_}v|OpKנ=x~&K~_kow_w>2GQ. =#uyn6؂t}>^?)8] !LK$TRkT~l?Wl;ZxYZf";x~ѥ)Wxo.uMD=[6M=[.{ؑx_@}͙ylb]h?N2/+)1tl Dx>2GY+`Z^; ]疇pU5K}|=.j4)=wsqw?ODoNRN?r˵D^))R%Vo1QIh_?} ߷"A _Hg~/d :Z^/S?%j"aoGej~T}+_C|Yא\zG/zcށ"`l~"~Fhʦ݅V4z]z7 y|/\| 2>5&>\,q|L"6|M'87 %\=+߂D%b<~? <$֩-Ѭ7ϗZn={{U% %~^]T_<>kt 7{*+zҘyivxPCzq}3S$X->?xIE]^s;'y=a =N('u?~j== GHޓ-};{{.3ϼPK|/p?%|{M'ja/ [b-3Ŕ? v|l>O'TPkY=5lywjx;% %@; ży]z*-y걜c bQ4j'_ѽ<۵?*ێmiT38,4<Ǐ{i݁~w+͏,oĢB0 G t1$:gƶ_'П+B`Y#3ID" wxO;!һ]gUa)\ɠf?pÆpψN} ? >e-Rho!G\HYUy5 yCiCx S|'8Cw/ g;zfy=pNI8y@?r>^Ƈr|AeSy_=djjIq||s l,Àr3i:}A \_jl{KBw`Y^|N3(>+(t^KQc:xx7HQx- C,E^GWi9Ϭ‡,x@J0V=9+BM3~fz`"e])LX=o||e!#Han ^x<=6e/zW?aYoߌכyȥg*lpMJVs&..^*X/k|xzArwqƢf\FfV?8.DK-z}|1N{o ɍ[ު$ޅOCP 6B ΃5֤?oF<35 {i2Y'Y&ȼrv>H+C<3Uܜ.(+~+ ΧyAy={x"+>R<9F"I}?2o !*)y Y56egx~|YxP. -7EU 17ƥ4+)9FrziǷ2l~8,z>Tϣ`o⍖ Z,9O(hy۟fC'gx^\cs=T, yc-/A|3T=īf |+T:Xr~PA#^{V{u~{Z3q>!=5)6i;wbU~6@eT_o>fV1$=D;S6sS=-sAT!F.z,` +ɿ ',mDe~RyLxK}dyͯ_ ?.1ǹ7|͓銫(Tq'ƒӋ9V=Oȥ Q +DO,ŏt$RsdOm#:f>3VQy}cg"Dz']l:.zԺ-O Pp]''\P'*_ Xb7?zܠ[Pa/9|fx>YGeɮ. H#r&X1#۬o/Y1)҉vki3M?»3& 9>n׋VU\Y"pe6?3{~MQM癓dxmDr BRMpw^ʍ©ayk~!琽ۖ9 9>d&P|<gߚǿtȟ:OlA+hb̓VR׋ 姾xHEԅׇ=y?VR%9^?ox*~`<'U?Na̫E ߆;Vw?ޮ9qPdGbڐ7a Ўmyd+|0Qwc>Ä:%ے91h cx!f=A+܈]JNγr^7̘~@{|? 4>TQ =N`>CjxmxxA|A:Ws2#cO%POgqлt<-3~.2'<8P;w+.H@t'n\G1:AfsMt쉖!ǃv>vo@vܟV<1tWq0Gxl!'enDR{[Թ{x2LD!J8';8?w^{;^W>؎ ;{nR$\dUxj.pY MxV<P|{4%4`o Ώ^ۡw 'e%`2MF? h)r?zy)ne8SăpJh8v5x쀿6%wNt2xD)=ft^4'$l#' (DYxtsQHs*8,5sx7h!@( O[< Ib3 )~I2 fh0=툨5pEX&| S}|Q3̎Ϣ`<|e]@SI5 #Q灀S峇!ΰzBߧQ4_ ok~88~:x ^" mCsד7R=1Qa4jKgW $o\@=n+~>D*tiOmmo9xś'%z~>8ч{Ao#wgD9Vp}SJQw+w']b^FK'eyg]ፇX> E  ЋM4'~hH*z@y.7W=#ּLbɷ^ZR['<~>3ӣQƻ9,ݕmBVw') _n/%~4ԇD7=Ňn; bcM ̓ܣ_j<2y]T\_Ydzv Up-adb>oL+z}:My5Jcw<4yfzeI?/o7߲'B7[5&t/eӜ>yZ8qor ΀wcO}[bhxޏށ X&KiM0_+/F: wU%IoՊ6 ח|AE}&@38%iMx_8 F$ê͸$ANE|2|ACO?=w?U aEn2҇‡ S^-Y*ROϹ x,A=qixVku10(3= x:<~7؏wٻ'?O_k(G'}o-'ewe&r-#9'7xsBd+N M遼ykB?2e|{ɲ(xb s9w-fi}7͟= eux?tWo/Ox:>@o+߾}/"Ѷ@(ߧ4xjq#KVO2zrTC>Uk̐y}N?yVq<S ٻ=oг6o.+u/ʛ҅gY5ts0gԯ5x)T㬨pWx':)(c-?C% HmE%O/|Ӂ=(Y6F(Ru@d)J.\ z* w '^Xyj:k2%ge{?GѼR5MÔ /L~~܉=hyIE$~xE6 cge?wyC3ߋ5o20j\|5XSp^mÂqL[P3v؄Q @Qo rT,z֋ {nǟo/X~<|+u}JQ5Lm+{%aFϼni5[y.!ut3I=qլk}#Y}h2^S[D"N3= =c~R@|U.F@-fEŻtFQxH'Ó1 %tExF#8r)xP\oO~ =F]|n~7xw< ^2x'yv"J)++^%owQ҃NEQz:_| Rp?P@e^i-~R~@-px0KRzw/+xt}YJ41 Oyq>[y&'hT? 7^ _LlFɗ4Vbt<=a-Re^j~y>\ g> W(= |3_Y1k{x?y~u$˸NvӋ!o8JyK<߈)R]>@?$7h3:7TjQ@3*D3ȌptlAǃVPcz w0*^/5th\JP8y|ֽ^` ۜO{p~9{|@B/]z{|9·?edpq x®׽RnO(~)n ߭+Ey"99Ϟ! 鈾^]g'&Y/GN|ÛǽWG;sY؈L/0,x+2vP͹ h*'Ljlx*V> 5wzl>iVdqʘa' =c^ _J^=~y%AMxDƎ>@_X)3@/3vRW*U[߾ɮ#u:X7 "5_SVCd<`/2܈ew7눊7/ /%Ҏ}7x>:mx^M0.x z{g%굓zݖOkno_FZ[.|lOd3;^ipBo~gEbh+&'WuC;sy(Z]my-oAٶHr%XԥLx:a:~Ygh[xGS )K{h?U:? URwcTbUy5bMus ^5?A<_|C'<c7/V|-[ v;?d 4x>><=N.X\۶m?T4ode3jj>m?OY&|\| 7|f: ޽]dX2G홝|/%7UGf,:$#;H9˝[zY y<ű+1֛}I~̼}ݰ=nHû_}ǿ _c4(jﶌ v` :?G7Η"uf)wisC+H*O7x?yЫfCL P >*)=& ϣ_sdszj//k~xh~ܒ'5^πx|%RK0XnƋbzݒ"MX^Yۣ].:>I{Zy+-ֻwikvF_?Qk4<>h`U&I_TcFS+~dW ֡|Y_^P8R 1XCFv'Yr]I:DO;E =_"=s|y^ĕ7N"tŎ?u&J m҇!W+v9a47~AO8(~U }{~2C;0x7!S2'<~/zZwc >3x]~돜}'l; ^Q)xpgv7H57!yu}I0?)V|L  WH *_~S~yY1x JE>!E;C R'PxGUO'TDYg>A= d9p(ߴza;h^x?nx d9<(?E|$&<=q#/!?)gʂ/vƫy^6훐xY\z'\_u}[a|E>ή;q\YÿY`trI tzF:m[n&#*PeK!ϒR}tPo1[gd7};GGO/~)e+m5Z&D\{݉aj<}y+!h|*DˉC'Ll [N]B~ `͝GW8R;Oy#ռ*ԯ'fsxJg(6HO(GVfI8@?Np+Y?fxf`oؾv9XQS< [ZtZr>_O0oӔ,ڮ%6OxXJ/}od|ޓguS_'?G~=<Ӽ{O)M* Ymx ~HUwEKL8z9֋uX'{ W޿>DfܐA>B+mG3vxp6|ċy4W]@ۈ#/)W֏ ~K]_i:y=[Iҳmx]pֶ!zy+8J/5oES8mK'`j^'Kz%@LĊ0lbrL͚'+%&?˾6WbUh҅=O{3ޗ߾BF4D4Nm u ^/P"WH](4'`E.~DR۟gRjCp9`=ϛ@dF v_}<l k^Q>{%3絟#\d/߬J1dy}[R?h&jO~ߥ߷y9;3_׵n>//~ۗov`|SWLkKYKM^K{ph krE~5ZqہTp^k0aE!v2|U2>o?A|V"ʎ빠j͠Sلw W °ȼ|c,/lA>?m{xfkvibs=޷W#gc?ޣT͟8/sY/yMuaOP!z<߼A魳9}\/,c/LSp*KMEJ|z+?D`i=1ݜׇ-/p kKOgQʗ3}BSK~'#fœuwŽg;dAH߿j"x Èy[ #S1of4Uy2?t D\0tA~̮O՞mEQkVJɆq4>މ￴xsoJ=_xs!G7x}Fgla'NKj/_+yOgi^&R=yX4O~=)%ώG΋GA? K<1@\]K~%JyB\'}myU>]J>XY^/iC\DY'u5zGFqԓvIg+y{ UbC:c3O]"Y~^<ʼnyT/O[KheLVG߬Vy@=WG~zȣ^cZ}A-`@O>K o{@f/ic2\1g'ợ7?y;tSZ/ymx^}x'{ ʏT O'EVnq-]7sy]_^m|.['% ly}S{? kbRQ!zQy?/(@<@D3a|~׼DF8 }?<^ z|"g{<Ƨ5D6WYNxC2" q|P>t6>|uRstB;wS҇ ҇Md|X/=oנ^ _{q{](zм]x3B_;⍏RmDV W}kRjK_#'jV=/YU`|jٌgwQ?@Y#q¶q3Gjw}!@/vX"R)5~ݎo&)yF@DY7. /V4Ra ~H3BOy?{桟k$6>UErp&rÒAJL$}ʻǵqy ;_yۚ&7/zDBCJhk+Mq/y%o_yr?R_OH*nϖ O<|Gk<0{l|Ay}SOb}{~P1>]W2"Gv?H|0z{ӁS=,T_% ?(j3u[rqERF *woԼ"zfG0$3&ʅ;zwK+rK 8z~XIųA "W {oԠg_O }N{^>ې]k)YbhuרÄmr@}z_Pξoۍ Cs +'l>yAeFZW3P#dxm;'d{ o /aϲr4iQ8x)Ve l9fOFͧk/ްw(G[D&n5<|E,}ozOR ߵ+J-[=`HG>cxS|;Er<>T]/ ѽz,*WO=%KPWVXL1s&0O9AxgaG.ӡ&oogl8WUj/>P_`=ETqޗK12@~ ٞym%1S%C͏qӝyD|pD z]`xedyU`GN! »'QV #Iγt8hww-EKnoŽ}ٶX(8hqd~⩠}& L|gYSVe) GZd,NT\yCBd"K3T(s6 e)?ȇgz N3|;T&Vʭ|Z~,AGz|':RwnF.zY!~wW!f\iԓ//ܷt /n)ˊP HKal/6c5Cj>HO]+6'd6nׯ7,PA\җy2di^#^q V%O1o:D797w;>-&boZ}~ ɌlĻyӛ!À z_Ҽ"/«ZRxہ/=q0Zi4Q0z!5$V l8X_?"~X`C(<ԼJEλ S`YY+ϼhy*~/ne$zA'zWdp~#v9G~-הw #}P0貞^I}a{xN:}^;Ubٗΰc x@=HCc^zQ[zEXݯc~t6xς4GѼ*=eAǓs?~ϼ[~(bti^Uou.3(=/LyK/xAO3#Yz2#ŐK\`/?k?E*̐l'2Qy}6vR4Ar]_ ۃWe6mdPt^wY"pNxV<`-/<wAg yڎhă↓6c |A8+Jwi||=Pjdgz: l|¡Pt5Ϙ+~r[8'|(=-Kb}UqyS/we l|?GQsQꟻtW+V0'? -(^Fv.<}=+WχEz:liV2CMmwzA#Tzx5*u[W N?/AR\|o?u- 091,^UJ q` x" Ƴ S}ܟSlDfx}_Sq'.zW0?هp9it.KT$N;Y<Љ* ]/CX">\-XCkE %ߟkH͏ӕ[]*B̾<K~V;<6Ưǵ}sϝ`PMeyM?gCB P-|hps3E~ ާ` ޗ`zg>ŀZ켺#CU}xot^&yӛFȓ|zO2j~;<{{{{~rf?a?fJ^d*E`ׯUޏ +vPM@?F2]z9[Qmx?Uss5r32@?lScӿCS.Œk>:0ofr}-4pO Јlsx -SMx}* K.k]VgI<@=٭o1%|Yk? ;̆g5ft!|?G K o[S5Jwmhվ^U٨c=³9DelJv7L^{YHT}˙wSx/G(X?xsWFDӪ`V/vTf>/>;-?dh>=[Щf#<}~+s%Ĝ r L9|P zzlş= \3oρa<@D+=3taȦ5IfJt75wa%S+<&]/jUs}e6pPM;VCxΧWN ՚cvn3/nci/b/4;/ ?mSsӋ-7?Uh ]b-5psWj/OUMy~7fJdA~Ԏ02Z篽JD6ݦMu/o¿iX]=ًgT*6'y ׹cx>./irR:5 9욊7YSa-:?5_\x@ o y{ !L/ lϷtbz;R).}ّOwXO]#\ty'g9#ד#F`~#hx6rQP"ޅ@9W+ywK=~Y8הoHAƻ{H*8qi_ٯb4 r cG7Y% ~'e3;+Q |"PY,;1̔ᅬ7Gb;S_Kz$DѽG% x3u#Z<OҜ ?/D?.okVX\o|a~h0<eegJ5_? x OGҁ?ߞH$,\8yjύXGpͿkc&O7qO֗ kGq<ݟb5^vz7kYحjd1E;Qxblx< G Ct1}xܻ;ObO&Zn"ljGX+kzxA1;SWNqͳz*l{(I5m>(NIrIBR|ڷ=_.`bz+W]J?sn}b^bzO. ;U?*]j}x\qjm p0PMzO.vΝkWOvxɳ>zxO#E10BݟP@Rc+^"v<|vm/WZo=wLᏑ/1b;K1_=m3{V/x~P,Ex_R"kϯA?a6l~[R.b<}?C^ =0fޢTw-mzF_.EN4zU Я*EE1cWRi~xNaKI0#?@'; O?8g}_u9?\brYmqVO Cio?3aIQ3 &q9mC_|_w4GKdd}@]Uh{~]4ZK?/=_?_?&4?瀗#gP;ׯQ4Zg,~,6:;_xLMCn¦sݣ}c[ /Wz}-_Cx{9XT)KY&'7XPOqg5cYWE!?O ANRv}|d &(\FxP=$sm8!۩!qWS;t&WKbJOϼy׹\TxJ~q4^߲ǀ|Sfʠ5w{uC|}k9OG eRf xP.oX{4 пl|>ȧ bx= /XtD*x1n(tkXt)ɖcexrݯO]nH6~@E8@xjcn}"=x\~zm{}>[<3kK<`>;(?-^$Vxd= x0Bx?t77]mwrzƵ.nj SeҚb@O}mhy1ד7Kf9w +n4%V ru"o7'ҔC?׎hz.RM~t ]=/7@o<<}'^񄫜,P/x<2]~%gKRYX<}2j;?*aחHv 9!;nO1M\+QWRaag8fxP&GR*䔋-}5T$_I|Z(|›̧ЪP$O3@?4&'z~SN~P9_CT |EߏS{v}Hhz\ pN|>x~!2:_=˥0FzH-BŃ:!#x~I%y3'IX5@{]>$^|O u:5,uۯCgvAw=Ž,w}dSăux |EĥAB^ uu|3^i]dj ?x `8?@='CD7y6 O}2"ET PKOGR~X_[RO%z_ȵgտ wsxPSyͥ܆ox觾G+{xn!{A"Pjebs{}xC1Ve.>^}}ikb(=5Z sxkЇl_6 T[ z>d_+~Fzr#w#2ErxvAEm/?=.;@x>)~񰟢9axO6W6vE c8g ^m>so`o}?>H~uv`7=}/׈ v6BI{@O^c@d\ ҾYT \y!gK߅\fc_5Z3gm7E n qr8oŻ&7.Txà'pTAѸ;f3gu6_yJp|Jz 0z=^dH~Nl*?w5@ y?w{EU%O E{~ zh*G>@rPS3g>lWU̠ h~{9OG]y/L '*5Ox+;0^7W1SǃޕŻoYKi׿=+1'=Y=]=BﳯwxȝAqd׾^Pv5~5/ש۵-,/eCGcl+2Iv<ȳ4b$qןqswKT<8Zs vx|r'19 :J~xM'P׀hZB (6f~-LdMwzwk/k:Z隸Dbz+ބn/SZu4˞=Y2ۤbK>AèyP QCD?R@ F7?p۶xxF= )DO6xZ 6x!_,; A"@W s݄7BξR9??mI ܟ/xw|֯F W<gEb/|>O>8}^o ٭,YQd] h2+L_ ] @QDТxE }ϭ߾}CZx#hK^fϏӳԈ|cK|ʨ ̛(΢oսczG!9/8A\5:{ʜK_3}-\hsjz  Yfw>ÁG6cWDqcAV֥Q־=ڢ_gpZAu̵,ޭ=طЏwQ'?ٟ7 zZd\pxHW!ߝ↥N7Ά|t?m޿HBJRۿ}O-M'7QFCbTv^\nD3?`8wckh}]ok t}X:BDݿa8_~g6F(sOV§}y^DC|ywGcgϟwxє'?wߓ- C,.L/ PSσG)=ΣI pKt U*Pם$TBMIx&}e~W߰dOI]JS]xK48 @TSu4xrzbZ:W::['Po]q[}y{i̧g rN]g*mCYqyCIt/SZA75|'/rq#D%_wʧ$84nCË坍!4ݟ#Dr_ΦUCGOx8?[*2 fTmEC?/rW7 ׯ:/=?iQXWBU7\v]]$`-[<7Y@쫍?/n_!3E3ޟ9ypx)۷mEF#; ~:WB(xw"l%eÃgMkdjpZS H]?txwX_FP?- ξB>py]Qk3@Q~r2 ԋeoG?+˚?.=u /|[x0"SOn`!֏F Vxvb-tbf-\FfQYBÑ} F{Cğ:5_c۸a,_[<&?&@LGC`XzP[X.?8`__?!&L9<.v +po&tÒo-@oD DGo%*^[}ϳxr|đkqn|5?#>sxWh ëDȯo"u-y=jKS"m-:F=ۿ}#?'}ZpOhd\zc$ cǫZy{BĜ0z p~$Fv<=M~8i.xF5з) Ǩ8|'ĹN瞘oROeTi%@rY##\z[J">{g_7Z>6}m^d`,gG5b_SQgޡ5v8{xsےGƻRLg)*e،H#ޑȗͪڥL?xŻ0I&K j0gc0L>sbۣ(Bϻ^5u28<;{тTxG_rxY'tM,ןr$ǼpޭGvj!t$:Q DkZ/ֻ>(K\GH8~+uא$[]  w0AnΗ+Ș=^qz͡N'|6PMmYӹx@=<~WS\xr[#*חA ox\w dNjHk~W:脑+Lbt<˵bzݵ;kF{d'<ƏW.e}d?"j>cG9Ȥ_ ^BXTg)V,xoM 9k?m2C˩*/E(^/ʿ nJ~o>JzmDj$MQ㕑_xgs8F%ѧ(J 5_6[q?9]Ntk~'{F >>4Bʢ%}/W<;_"t:<{?έTtceyCxTzYeχ99"nR#猠˰#ψx;rxїjW(x-~ >!Iă*bEDŽ!*MWh vc*.xP>Y)?/,T<ȟϪzﭯh~ Dhy!^3WUIvgCU?;}VxCQ`nF,F0&OyOlj V:WKwrxb'#y6,|>pJHd',u8wx7<ٽ WTpy=ޒo/ W/?-(~re?O}lxPe_s֮wL!oP{ /2G>3S&de{͆g:Q_JkK3{FYqΘO\Why|#V 6$ ^)|zxuOXG'ߦk xMre.8 Zff7wY1{SEҘ #b/^7nC~ӓVHѠ>̘kh 8/~>$^ǁ tYӊg4Od4?XJW˩S(2S\ީU74޲x>{oNgg-Uqz3+B;?!yY`t|z_To5~џ 𡍾cSG3ZQLIA`ه`~nAs9=bφ`?I>R?-g:4?xG[ׁ?B!է {"{(S(H[{Qc=A8!1l;-j7ƍ@g'pnT!> p4dܠT§Yg' <'q.3Q 3'ɔ--Bgg= o7U`~6T<ׯJ՗v8I.k\0MkQ289IS?:8|'DG>->=z}ZoRgbY}^u: ؟9A^1@|t]&x9cyՁ˷Ոz|뒲a~?a@p' q!k'k|7Wx˿\峆uຒʵF_~,Zqݟn?&'{^ܹ/,vG|_ww׍X;N 'eɾ^+jПCOYc!lr͡+Hr8[qiw6~އF|AjpxY"x| nji #T/?~}|FI/xS"cJz3M4nDp&лH6L=Zި#i_geIT ǃMô?мx:CäzaGUqw9/rx>4S>=sS9teM:+D_1jm'< ,>~5#FKO!RFP}9: HaJW睁,1tx/ޥ>mDJ%;56K옭 \?:m|[i,x?(>h'oOk߭yFk':,G>7mP-[ƻ2w /x^%x;0kb] ;ڮ xך7lpnL$Mj߿0xP=rBTI0b*[[!?ji}vvx|\+?Agۿ}Iţba/a\k, 5fG9e LK_g;g]7ՠF*!Knd?{#@5x| -n>dlraPaHb4"]|):;OJ۹m'+a>8@NwPm9to9ѨUF5&- KU_7&c}}7>SIsB8SWjw~23u7+難L!W݌ 5:_<׏bg7ҕz4Rݔ^#_=4t+,__#F|:iy5IXq}*gy 8 /oߟx7עBE+-OR"]Kd@TgL]Hg:#Ǽr=|y) Tx迵Qx` i-unyS‹tQˢNdOvӾډ0v*tPρ߿Cxy7E5PP/x"e2*ՋRY770@LKW. K}ō*~ad`J{__kFy!!D=]Hx?tks Џx\^.$^r 2ϻ8W `L<裏|ey/X.C}4ׇTrp= ăYi{^V,W\vg+{gD)Stޟye2ky+W̴}pϞytMkw8+9y{SVnbV2oV ^>%1\>ܫϲA۝+ 4?ns=i7Ř Ÿw,>])$aelK_>[ZUPCts)*a}r0-kCW^ )>1Ϯg#@6]߄U4`3K<goGhҤlDX]h? N*k=AKYC`ȿ-,hc =kzm?3:Octkzg& ۱FG*cg>0~O 7}71^Tr~GcȃNIpR Ƞs& }c0_ ߿ _-GMˬaL7Lw-GF+  ϙ2~r!. [f2IcyFٯQ20WS syf N ~05P/(5<Q]e6'Ө7y/]WHv?g1+YpBB$ϼJ{LoddySg'7]_"2~6qq&ł zWN=iitg7hk7Yr0ůa7!%{ ԃg! I}YtŦ/:^/TN^OAɋ&w,/-9(O=Ik본u?5 2Md7j}USևL_zk3Yy .O!gyʣeɕseʦ[Rl&p |#do+%Ǽrsz[g1_귰ŵZyM5w^`' `{Uя=}r_iW~ޥ=09@3d{{e: {ᔐ:WTE8I*2yOnzjgg4|PH#ocŤ'9F%^nHBעfܓXO{(I4]cch먍yD/Ai/yFQwjoN5yh{?f >5* C>7R_Lww+쒭!GYV 5lia)2RtWy6߳>whҊ}G >3mWmי4Sn,S\`tS`ۤ1@)sDp ˣ@y/xůGI[=&^^a:'K5YG1I;> Ii0cBG ̾C|+^ īCaG f 1;ﳩk.<|@W.@ߟ|V`?XU3ot/ ^Q !W'Iz_y!{T׀&3IԊA[K?w/n.ABį+t*^2W "*y[:H쑼 7k Ui^ye .?'/~_zn.Յg4B'ēasdJ5@=Wy^5yRAqgZ_Y3-0/ /bITпyA"*xr3·l_IB~\| ӏ~gsp7 O\0#YJ.X-쟭U/ؠ/}[i}:^WIN} FX^29d3o^KYy8Ǜ71XטZȐ/z RB\joOtO/}O&w)b.1@%;qIQ1׷$|{2 ?x}( OOR}ݱDpn'y!PJQHG{Mf >yսP%z-sA"W+d){ j0oOu?Å1y}׺c@LAr=toimo_~_PDuDHH/goFbLw7{YogV~ _ P>2ynHzdai T?V+Y0;}jgw*<1_V58W y_6v_"EW2@|Oޞ7R^xBHSK&:(VBX~~Z>3!1k8Lr_rS,n=GПȟλD+RD\J9A׼K wS> .e j-t\YK$n O͑xO-.Jk:;T]VAd/]DO+UzG8ʃ_ne2KZ}%??^ԉ7zn^27z=zu&&ZezGa7BKǢ+^ Lk>׿r7ߌ)m<@?YMeߡO;qUx-A!pvYxs&}!'Kȣ?7Lmq? 9K/?oʥ@Nc߁yYOwe*۵u,_$KјQg@5C[zz@OʶKCCȷ/us`lz0Lxm5'܏N-t~|Qƣ?{ØςSh#Go4A 4O$NDΗzd15dO? I2q|>3Kl:^1 kH>nZ~.cW;GŐ/?=I(n+ҿ>{gHJvQ"O_ /MkCW^uzW!~+THœ1;_JE9rw׎B|(6<Kn9H?i"q);r?\` ,T>љ X^93%xz[fWgϼk/΢=vt}LI d }>PXBo|dI?:$/qRY?H*-C/Y"rs7ZQ$A~Ϩ.m·E]FRwJrvA$g}Sw)`@yuV TIji# 񳜚7ʜMd$Eoz>."}PV|rx%ǹ#OTᚙrwIwzzꈫYX!g~R ˿r6}j~ۂ]H='*K'[큠'y[JpϾśq'OKY`[MW<0d>GŸ~>ξ]H?|oԾ;^>dw{si>QQq: /i\9ބygBGy<[O@ rK~|Ξ`һoבֿAwcX岛LsMWxEOWx?q0DZ"FfDw/FI@~hpE `Sݟgf \E~Z=fi#Q M/t7*<%l? w{a_u3#]~o>9d_,҈I/7A r7Ed2}h/ȗa}]r°[~;AѼ_m4_1~fcqƦ úAmw? z\+Px!gֱdK2ݏcʁ5[Fk)慜__)>#fI3?tߣx/J#BXY b}kܜVgL._w~(;RJ W~>t萚?k_T oa_ 'vpNL͑GjW?~NjQzxi%O vS\x3_b`ax?_o.<_&Gk;jGWN/Ya"J]M}@=܈>ɾ?a_=!>~C z%0x5Z 6Jπj12L&>I'KgAs*g'O>sӹ{;p,^V"<5 G/xW>~#qܟgg~A|ûw!~?K$zSkXYp :]}Z%ʇ) |بT,O"|< gm B8<@W^ys~Q _WV`TxcyPCvQA:?KO{yzT3Ǡ_n  lsz`ܿ«=>fj;><}̦#~[>MV&҇ ~Io|Έm.o”,u y|H=TƍceI6Cc~=9Q C,t.#~S?8-$2^ |S{vx,0^IWhy?^qxKgZ;:,ls@m~Kǡ l)Y%bѤDžZDO,?VM\ṣ=;=-i1\Z-hџ&G_iiW$C<xf>z7YO$_O]O~ycRO1~ŋS 峜}IiDӢ""C^U39}yyޣx4x񊵯`ի m~tv+fojX%SԚYR^^a5¨}u#ś)@@a5W~]I_7l6#;yJ 1K+օBVk]/z[}62 ۊIKEOz z?r?0/z^&~l!tx׆ߥNvPc ~r{"#~"We,'ZOiN}</ViR zkwj=OX#xz)"w(u|^a}$ a?jo6h> 0J.T3pޟ9} b(ZT"J}*a6~y6M0TO}VҳjXb!&7gW ~_ޣ'SƒWM(Q)Z1?Wo\2EqSﳯ^}!:R ֫JyVo{,'qu]ߟ&B?Ix|2 #ך˄ >#RGxy}~q2h~X<? iqd ~![1P+'~qY*R/k'$CzrskՌK'O&Bwj!(+"! ϲxJmҾӯ^eRᙷR!z5Z]XCC.+o}H }oOdz9a=Ǐ yjpCgy'I+VIWќ AyϹ/6~7F2/'o_RPEYn=e'V+Y׫\ GLz:y(y==}SWz-;*~J$OU9~.~WJO _x bNY>QZ+@|[͆N%e*>&pw':ӨYT~_ Ԩ: l#6ٿw@rT<~)"Zl~R(~79Az߯#|Ҽoo-f31^i߽sw" W?Z '&6E {kqMT ?W7hiZD2IxgP|Qū笥5+k9u ?:5mװx3KJ?(R_Zh)nޥOk_og R/{$ka~|dVLz:@j:z|:uϤƍl%S??CCuyx%"g[zKͯ0.?`ި߂zkX @=|c)? ';fzֶ- txQ nmh+^#AJuc)^`yZKK}t$Wy!k]t>g{8+es8(cohC3 4.K#KNELL[=]8,Xbc76ƛ]-C`Ill:/U}-M<#lIU]WտjӴtÓɤҠ 'k7 hE$xZge7n-M?4 Yp= #GJ3 /{*X*e/wϯTΣ.o3?ڽj,^9ZMo1u֐"(c%fgh5Q?o{4v= {H|<8%awxz;.,dՉ+ani“%nx7c~QoVKTpH$SڟCڏg+ Pxx5V.xcD:,^^[Rh3k^jfC8fc/qZeQ..\xE8zJ~05a.)i/S۽Z᩠2 q< >Þu<g߿)EӖ__7 s}ꂇ寇0bNe/"r/ /iU!tT@^q:Ө|^9G) o%"2e[6B>7Y$ן͔ZGuu3JGx^z*O*8Wi+:_{XFžӁgikO|x A6?,}`y𐄝$%T iBٲUs"R0=uuzS2aFvӣkt/_`us˷?;ڛf,mz,A䪫ÿ:ko5UY:fu8\*jw*PWe'PH J$J埠){yjC!ňBYw.cg$M64̑p0;Iaw] T7b ^ yXbFJ͊?P,")6+ӟh (T̅2DuS<*ŤX 3F+FRBh%)7H l88  C 2An 93an`#m4ٖ+&]n LdI%\(A{ܤ?+m'd8k8~r9TzS>lRisRe% ?ijEb#n'J!D 1WjQKKER,Ujl4'Ǥe fsl'>(>wg5Y VͩYBƄXYlos9 oF҅eM=)/-VQ:%&D@go.S4UW/]9޽n=wܪ \å@q) 0KjHaGW2_ R M:gg;du'(\ӠaOrZ?GIYyY 1a!ʍ_Qj=>(Q(%Py|o;Å[Kf)F{ C&@">hV3q>ht}]~MSK8ߴ@)i~g[ ?DՕKdk˄V8fBް04IcN !)g3QG4ISj t] ]+hSҾ ugה!7)O&]M6g4B\JFsaRbԓӁ; MD]\AfU :J}G!/TίI^@BLPK>&E`Btz:_PZ4j+8BI?mo/u.HҨOSʞD'ֺubԪ;5W1tX3,RߌZ&+rVW'el"hKR@%D/5[M2EQc=MTCi' ?6;#>-{r5-4zpSK vV ]3d㨌În8Mtp[,5CtFhJ rOt )r M`!lxf.0{渘` coU_x\8t0Y,v V SCb,'>22bKs;cSaa8N!6LJ~u) ק&+*XDpTjk8>Fl 0`*Bt,Zh 0&A֤8n !b؀.7K6`/H)F-#ziD4 XXvll)9fL-KЇsjEDL$Q߃qFl@ @ʡ}rۀ[磑EPH°4~ښ8AdDj^tb6$$,M_)~1u1DHjÀL3ܒt U) BWKӹNԓky(8Gi65/bŔ`CaA#-)EqI|Rq 2ZY,F/z\LoR(U "0jSa8zLؐQ "2bԉXoW{oK/("I&AB//ASb@\;x9>BkU c` 4@݄*?j{y=i5) )Y 0Ls#q #rWZuf6[P3F  *CP*59ǙbD:dT|q -MR (G9F:==yGfa]f},5@x9#JYYxl]5؉-U>053$-A~ <K@!")S! `c7yݛŠ @q`gңs<ɧn#L},*qyD=GZLD6xĬhA&岳7Dм8V% * ~ s<+R "c.b%i!]tX)RW^/=~!l/^JU R-D]9I 6UHT0,)[9_&u6!NDqg>id̀ 1#el׈kw[ 1dMhFڔxb"NH%?˝0;ATAN/t8p;6MAt 'KbES-;cIFGP@Tl`|)KAgSVl ~Rl/ *cP8x2JٮWGq%-Hz-RaIT%ìgVt32d2ϲ4%WMp)bD >:(U:~G!(]0TF&PdEs1ƌ%k%CV&cҝPSOeR'h8Ѫ.G'+i?ĥ'P jv_g j$[)GHBHDZt}6¤``9Ɗq [ _J6P?rHWV"Ȕy9Mnf#MI(Q(au8<iu?3_I1rH6DkD' l 3a: {]I{Gޏ]ZQ4s#Y?Y6 y a3{5ewYqwu0S$NTTQp.EhRɥ#;w Ǵ؛{@u43(.y4XU^/K."@{.4N :㴀c|Z@ށ=aYI1#kl?g _?gۯ{4}3yRn`5t:Kݺ)x 5S zIHiH%@K)e} Gm®1wȔ: RV|qǧ7HzSq_~v0JN7kSO$7<@hxj=E(q[̻pLd=#A~7NE?kR+NK9Uu}1៳w΂9sj_/_ѫ@< qU^-Z@Gw5g~ P g_]yZf=I玕l"Xۧoǽxu?w˪#Z;v=+y.Я ᔡXz3ks3;<;?xzב~7aQ}sox&~7Pwt}rgԿٖ'eҺ}W5$Α/9pЛG5{W{HZ nԾx=wQk+-\z΍uݺu~ixc+G}}aT}A޿E&zkxw\_e{UfջWt_ƞ ׭[v~.i/'lܸ놆oȥ瞿zM><>r9g{>ի>ñdG)k62vw5_^~'9r$q;'|.zv4eOoUn/9?P׾;>œ:e׽9wmo#l}/o2kp7>M?}'ܽhzwǟמ]dV6G;qAr]/D\fWܺè .>yޛ!_yOron[;::,'~W߹({Ɓ rk7-w|U'o7?? ^Co߇{NOl0?py"?  r/}>f 7VϏ{xrI}%zC=G}Mf˾_?YD=74SOp9{(C1( hHa$AB&!!!"F2$Cf'sD(,c\+ HVg.*꿈FV#adR]^^wW춪OݿlIoבkRr߲}u kZ\ u|7i=vB^<l(s˾8kkknݺQ;*$eX'];Tڼ?Y~yLo~ԼԪ.ΝqlHc5v\2v@5+jO }8muUqϬs#e쒟_oSfN:Wi];O}ަgN-yg\Q?O-tO_zF9^T?S98\BszMh?iEl.3FÅu,|dk`E'[;6r<]ޚw6-^=kyq C~^OiV{W>nm,-f߯z>{6lX򂯵wy2Ms,l޻ʗ?t4q^5["M [3̭С?Lu'%UXnqq_Zn}2h.gzNsKJJeC^m۶]xvٲaUwwv9%qzzOgvro_patʂg+=zۛV<ភ5~|zcCRѱ<@Z{ޔ}>o„qݧ䮯Vi}w|{װ97_q&0Va_ԫٷi}޹;;rl;yx.+gmԔTt˙E Fxoǵgj6[oG晎Rsڟ8 +fW]oQUoE:5cw8uO=JZOL1]Gp[.g6?R{l+wV|*qarsS'lTy˙fzyٚƧ;ޜ89͉-^4Gp~~8y"&yO{UKs$ǔzJLC^¦w%ĭṟRD.ɷ-v,YkuBͣS:TuWtt"qOw>Pgr^vև nԽSk}ܐљ~8 к91_xv]M85[*8>\XRrdkL?T<1[3kvhy֗r}J>ma5]W};OJ|иOYqtye׻{n2}oflۻgcT{/o|㭦yU/]$olzwW^#1FVfRݸuwz5IW*K"IoL^Mg;oZ_9O|x"?:{1 6U*#\=vWrEnWR67 Ț*VD@z`9 rMYS\, TG╤zs+hVK8XH7[Vd!QȠ1`YH$zП' v ֊jud27t4;K}x|.dHnz?As "Y f O;Iw )7 $8Σ:2C)7XnD,bPDU IƇDq=_*Ff%Gfx|p&I䖛 WC`ʀ1@Fzn&%f /TXk< D>hpBZ-^~X-׀HEn*l((e\h"Ep0;HRsU2EpR"ชf/|pIJ) *VE i"k߹bJ#=BJlu6E2ުTHz!HF\GX尋d EDj>$40P$##Aﲠ8"CT,e *Q)QW+L"9`᤼DA) T^7LǟK/}Kl%^bhX0|Q=V*R"ʪ"-x,3۽"C'N^f$ I[+4\<"! dC0K!"mH 1,P<I  #NMA>ؠIt&߂?+ |@H&j L5k!tBラ@ H.N+ /,@є# _=P܇(V':_⿷OUDMl+z}q/D+-ҵY"R)~Q$kK)=0%TDCqʠI1"Wj MPŪ4=hЙ?rܜI46'ʐE Zhk7Xa,9K#5)toq8I;)=$=$9x^z&عߺ\QUn`^ѵ7a^%C=$gp~(uwp"ЋFkt͒tWͣ9WQ KZ#O+UB_d>+ZI'i$ퟤr.%ퟤOIQ]C)6%Uk٩SI?Iw)#Q(ir0IAJAUԃ-b9/ [:3$#,,8)Yk {cKCÇ;دJBW@?aD# cFh]>;i04<,FB%' GR,Rn -叙į* sc'jeQ20)lH%XT*;Wb:ɏǼQp hWm5c^=I)|3FgcIIӍ#[5x TJOc$f[ݳܔ\G4deɄZ2W^&j|{oe\*IQhB[j4qhcK.&b):6j#`?G8R*_I u̒KNB) XVP5IuUd3\bvK8=rx(|*ˋ3:nF&qsK2EL@1j i.9^e Ll!큂Eۂp"YAFΑC h&Gfbm%rjaģ53 $`*B Yd)piap?>/kMςx'2{q-hÂ. m9@F; f0YWe`%~BpPN n3h4B|xxV(ALW%BPPv^l'8vc+$@m d4l7kZ+FFb˱' %84|<'U6)N$1T&2(IF "&4ؠ jb A!.dZ?~qPc Ayr(+I؊);TQ4@gC4ysʨRPPc =1AX5CR%ϩ۾'L'$)qshؽ5,. ](D`юR(j,o Z3fIDd`"'C.!hC/#ڀ+/|ۀ Bzʔ⒘/"DALN $d#qs2z.-~[ FfK,&3n!i;`&~Δĥ|\+$ 'Qh Fcg8RwK2BN\BQ0vBV@Tq[$QiKIbuusNjR jaCysH8xui0 nXԌ D䤰T[s cZ|L5ez1Ur١.fY$ $_ 5e$Y%|>Wi<N XC.L /U smH.̤H+1.v`&2B~?-F]d<^11a7D7\/ GZ xC6Ь663 eJjL@0~rLh8fx"PFvFW/!.znExGgxߓKEVC40 aJ"h2 )%A Ѣ 6 FP$v⍆;؃˭|_p< r0ff\xⓁNK2¯sN )+مD`M bg2_}}]VE\΍=0MsϲX0rA^eU/388^{0BaZZ4! {_GY6^r(P[h6{̞ɦIMi6mJR$Y_)WJ(XB m娵"\ri%P{9ޙ=4;ٙ}y}N~8&zN pt3 qɐ*Du {   N`NNC}5GCM&2n.1&Oh]4>ɤ9 {Ҡ*v:] 7"W5K+_4(3N\EcCBydyDal`$ cCT5U`[eZF(׶Z&<24'N}ahaksW0݃<,bq؂9h\m>Od*IPT#Z49$l]F_*% J_EƢnVZYEaH-V\ш R4=VPтPbyْ'ΤUD]8ވɍ$ɿ"tj}UnUQ\L_/ZRvmT '/]DB_]+ZV\p01h驁ZKȕ Qms/B0*I.4Rd5{mAY/Y+Kˌ~~W U<30T_dc 3%ąl\ZT8'bIޏȓ))́tm gpft*j(T&QYHSKp:u\WuLLp1 .YDX3*_[0HPfʸ %Ӥ/lu&*@y{e>9E$+I>(B(.D$ $$>Q$3BT{oF2 %ִֺ`[Pޕ&UI- !]<M&S\;8vdsRlT`7m^H* i{| Zq`]"/GL*zVCԐRxD(2OQNchzgi0z+W)d{N3w~:x1 L wҌM*9BkэSNNeHix9M@ZNESM䜚zAq.S)2|m0O|>$ΰ츏iQ?}g],]xJXe V3zX+UY=(|J<wk7]w?r< ]v_@Qz5e9U( ;K@g>}Ky*˺{\n_IMTZ' 6Ό\؅'GSV'&?£"cJ`PodE( ʏhG^B$Ke-& &v9Ӂɯc&̲m˛[P 8eʿ{=l10BZ&5?բ iYtfS(Z XFMGr%eI^3]]ځriJlM@Y<܃6Ϡn0:Ϧ9L_&\ږFSChOH=$#S7P'E@o4}N#O/@W< N~AQBzQǧDOS"ϸK縍Ħ98f[<"bENk}ߩy?%lrd2%ñXv>Kc-V(2Po<60|vB?d<ǣ7]x* geX&M880 ;b U7=Q4`8)z 00@";@}z=(Jojfai/6̷Cv:?S'syY"ϼ֞p.+Z:[Xnu8=AcwLɆMG2+#]a7Z=]8S<DMy8<-}U?hmŪLxlVό50pZg: f/DFC3 e;-1L ccZVw0C_&'<lѾl (oxgݮșhn7(d燇XeezR8EPjHM(8?F+> Q]Ӏ:EMh*N[qxF2ރuARs0QLBIeM&?y&s$ O$\"03lP9f8,08w0T1~iazNm7¦i/d=jz-ٜ N 95.J4^: 6K&$ <Em[ m+Sp[>Gr"%[@.v鮑KB>SyLٍe'Rg!qF;tl_늤l7`{j`ֻ. j<~w4-i@^yy°PfQf@;p9K_τ{ax(F `9{]J_jL j x=i;TeQ-TU-ÍDT`U,@,|i86>lJZKnS#uՀ#'&'fJ OeM=E֩T):܈Ir`ݸTbp@QQV!6X"CI#/Z&58a HȢMAJ\<$ht٘`x|%bi026I?&'#̓ӘcP9*iqڙnp)zQGX)vEZ 7@1 bGRj6M4\MX f[=)rH#+htK,R"Lp8r+dnG1J:2BQsGO{gN8j=r)Qׇ 8 ))!aV 3GW̋*T&#OZ5T6w,j֭*'Vf򣣶626ڦR2ئsFb$V!w{ufG #|<˫pnjQg 4*ё.~Pj1 ? (x]+2v*c/XNE$Үwj8D Pe aeh8Ф# LhQ'OK#*L/ Q?*b`*b`W ՃQ1Q1#ZϽ `4&L9`~掃 iE&kPSR R ̧DÙ5 E9 ϗ~p@3xʲgH7jQv6AmQ$mAXĬJ-(4p_JM("-ŮgVL_!N_0:RJnpZĹ.BPUEQ3}& a h@SFy^O[C>d 4>`2f^zg8/9Zjbff#NlTFzc%"4*ʮ_f2F*;հ嚧삚'ѶP3TjZ:Ty 8 i*(m< 'WdPbjD U'*WYx_L qš&6w:4aIfm8ÀOFx$rLh"Xke[ *.8鳸ׂ-(&Q>])Z&"\ T MW=BqE&QXk P-R*@ ky)5H8 +RJĺ#I1TtV1RUsh  ј:ZfP,'9ӥ:HLajp}q !atcdyg Uc3IO۩)?Ʀ`3[-S.9(]z&U$pjy-ԠmD Q*QhP%-#aEU',RFd y~mVxGpj(>J=ж_TXAxՊ9;0X4YQ!ts,4#M% eM`%\v&˦STmE>qvf?A Kp$4'cr}w*q5YBn(&oDi)VP )."nfV^F4LN!>MzJOg h[>Qhe1@-5Fuo[Bx0Lu?~*Lf9O=?S$j@GE}ԡr0đYXrkNastdi\q!T ~wCBxl,kcġs53^ v?$v whv<A[Яc5_YLx:F)g_ ~[WHH)ңQ^s1Q!)ʫU}|RS#̱]vuE8uې|]ue x1Gtu,:УGWKj*<P;US%ZTVELOuO)=^RAւnb*q jj WY8 p aM ] g;͡t g ~PE`Qu7rGC)ѲQ|/EU32=PXKǿO//lH_u7_3^OxیᴈbyK-8+C5&T[0lĖϢ1+^y׿$ֳ=3))ST DW)T0m["A/T >9ȍ Xf(B6nܕ], G#lmѺ1var<代#!V3i8q}|yO_^7L! KyW70,Rϊ< ?T[G3@zαTh˯*\kQ)|2_.QkoE2Kʏn?=k|*':CjQR0P[WWgf1iΦԸl+ǂEP}z0'-kV5w-k_p-EH6QuX*$Ċy[fy F.hH3U j|Rװ/ഩQQu6􍑋AiUr3Rp]+FQB$&c*!P#Ų. NY^qEr6q'aY:|k8KDzJ7XRi>a>d.Z0gԏ^%3i~ʭ@(06\ZxP>4Ec"6_UL.ŵz=h}jXD*p9%qN79d`wu piRKgtY?EAt. ֣u]LakAG`k~a3%W \p9\quCwˎ #H#{|<$,d,aD3K"KQ͒Ȯ%fIFHεX.,Xh1`E*pFPD8Ux:E,,&QgHz@ r; 62^.%E XӞd{S?k`LV$bd2t#`F2ULu" q ta/bLuM 0T6jJнEG^kkbj(rE;%d=hf}hhx!B K&"k@'K"ԷVdxp"sw:fɫҗ[H!Za˓\p] t6קL I* p\d7fSc! |Ϥ*Nf` \I -lP +"xRh :f0N`l7g ӟbN^X,7ᒸ&߂MHbNH4ׇ@) gQĹև03äC0A1,+#4&y.c||md$Jژst.m.BD3,f*#6Mp!¿ACypT%$S5kS% GX_8.Hp}~*>54Eqd,ewSѴ=%3D ?GR1 `!(t d%c 0W(d!mqá$s/zp.CxYe8,,FqhDT2a4݅pY\@V$`I`(^Kl\˄3b dP#"#71R;bITWB_FUM x? L6l(z0piG(gXl Rò/h-z EE`',85ʡ2<5RXc㈻G  TC-G:8|PO PLjW;XOBU| ؏OT ` D4p02˰^w/ ɈYsGD.h40JC#c[kImmˀJe 梖64tP4g6[O6gui^T/Ҍm % 2z AVf)MoY$-_zSf[+$4﫜X r8xk.E+Ok̷8.t O8Y K.꽀>&_U ur5u\7t^7r xL CZX51|N/4_E)9W%Q圧iwf~ $QMmFTVHsoQ7gW$WLȠɂN='<0V6:rZ "紗vƒ ֩>$K/lIP.[  = rYE *>eE{G $Ed-d]ZԿ%{[L\AV6lh@:]̔pT3/g;=@o"<9Ȗ]Kv0ks, eR\RxpJ0XHzy;\Vf%@ȹ彤F-*^d ˽i#Q$^(>(=4\Q\(Џ/I)vF2zH۹ _>XBc:seCN5UD,Be`,&a~% &`u.GhS| ed :?JIokD9TC9)QlETs8uDFh1RuDTJbUXmnƾX`&3i@?:pftBthM4%_)]g!ӑDW! 7B>D EDtF^G\FtG{ߐnbn$ ?'\ ~ ]Df2oW4%^+#^&-)Y`Fwܫcll]ZdL 1?Ӑ?Y#.X #]b^^3 Fu!O[E`8عS\ƞg @h)4mQaEjDd\&$J@ecxg= {Vi 43Wզqĸ. șGmz,F}3cm#5H0M#nӈ4v"n:Pym|~Qy] dIQG t<<ߣ|R@H= d@Ƥ D= 0 H=`MH}A~R\ugЯy< <.EKR] )T˙-Ls\2ԁ8vpXم~{*?:|,n?U|#|>'z, N޲ 9:Ӿg:/cGϝ6ۃ=#׿u4s4{W]7t磳{wb˻b}Sz{ٱc-xޞwf_y7.>ꗟw#WwڳcU3w _/c>=f&yI?һWwןv|eu{nݺ_aʳSчϰ]x)מ4rCWǼ?3p_rd`͋7vf%>ymSdu~Y9W]ͫ}h)eUܾ}'$闝^|SWg=C8MN|u}{VWuxsc}O}t=嶃c]|Ν/m:n:i_Sy7T} ?h{wkէW_ޗOc'd(_O_>[5|ߜعoi~W|u;mQ%-s?CںqO.:O,[7l; LJU4kގsG|{~Ž`vN\+l۶~{9{6>::gw;[}Ն1 5n7Ȧȼ/N}2ʖ^cwcCC7X}o3t;˚+>KO? z`˒t{];~݆3.N >٧{e|iǖ._dݶsy{Ss3j??RgSo|d!3;޿k{u}_u]6]wߎM[{8/C'nߗ~3{]5/njs~>:3Rw?ᅬ f死OR};pK9\Osf=_v޷~: L'_y}[6|/^[?xsȼe<딫x[v|Kh}//M~ xU5+~p<~7<#oKj]qK?/nmZ0wL`OMM~ow? ;5qWxe.ׯi'w,hH|P{\?_m{SjJ^m) X\,ЮXFw ~\9|5~VskC)=ov-Yٷ͛o9)fCK.= |T#.vMu^AȾ&n;96c8 )Tl_Y䛥VxkNW?%wO]^HxN{G2ޯ~Yc[K$^SVy/\~cI>5FWX^;կOޟpm?qYWK=>;xc+>ݙV?r`u0b ha:BbDxpAMq_ h0fw=Kipj~UlՂO-ZeO0ȇ&ihhvRm&̰^*Nyr|&Hy>*œ[qi+{p}TՄXc۾WVܳ=HŘIW猦RX[gͭN8g\w^cvePu\_uUUUղcJn$麫nq/^ҷES= uC&( KDZ?ш[6"wy5H뢙kbk]55FXs57)>rӊ ARU;VԎxduy-2R-Y܀,'[|6{7OqWzsC':o׎S.hjǯPS!}w1lb飕~Z*^ ]nf5*2[Sg%ͽ\kNIC)6ޱZhͲaI ֯\w M~y^euEci+cncŊٸ.AoT M-e3 ͏68:kWܚfǰ{7booY MOг3.:7=?%r:MRGw%{/ꗵ6:~2x?gDvUU^8rHCİ .\4$6Ȑ+km0>C\nmd۟/q{Lz,G~ʇ>V??ڐiP.194G9U >@<_o5n3^)3z`U¢/GebqhM'Lٮ ^G;<>["#nۑ=%;JM<ڌՓ,eNVܽz=zÌo#zvK:p}nvD =f*W.N[?zWo~rxvR7Igئ6㳓οq6)Wue\Q[GGW_d 9g۞ 2=}tzJEχÑ{"%vnzJok/F9bH;c`t-})]p'UN/ICY3* `+gep}}nЫ?ZV_;}PCĽ;w=J8|CN&/ٴunkTI1G߭vu[i0ͻĹCbeFE3("eIaT_{ ^Z ~~ qx'}dj 0%|Mtj) Z{0iӕ-v^2qĥJcSfMiQy**~XԔ:oSޙv5jWȶ,')_YAw|@};sԿhpzmv!amL$8zT)_$KӇS#|^M=yn)Ǐdb̬bBĦ9~Gr'i[yǹgSk +04njFחle+ϞNyLwҜ Κ9l@Ho6ϛtIok~,ytt~ #bcs?R_+.d|3{|o#cϯYt갧PWxX|/2y\;Ž&[3xv|:?zgO|8sHnwheo}SNK{S3/殏JoՅg>eYj_֕eD*L[wJMEJí[G;6) r{?q,@Lpq^^E`Ȥ}έs"p[˿>3繘Us2z+ѯ[ʔRS2nxV5FE:J%b짺EYJMSWZJlfU4ǯ ??C93{zݸ敏CT6s^vܹ=,^.R~1ɪp /PCWL37_WcmΊt7u@pȑ׬Cա{]d=:UTއ[~nj)T-z@Qz*:8Վe^HK-bsծ#AE=kUϽP%]bvR), QT2}S}E Y12cUњ;??dMkĜl]^\Tjhy\%z=10ӳ.\5iޫXXx!V),!ȖZ8xƌk#FFd_=W۔ŵW{m00J֩|˛cֹl13h)tQ*OG]Pc8e.{%K8z%3m]zo{1BhbQvRNȠ?pƆ BiCxAB(𳾷wKX0br ؆^讱8B ;P`2ڹo߾7_5 v//޿xxJ U‡EҾvGdd;'Lu1LJU F ,Z6#b,GƗo\eÇT -hеjQr##גy|+#C|N Wo6R<#],U֨ό _=0vq񭬬i>@ 6xKˌ7l+.>:aΟF^p."T~yVǏg[z)ZFg:׭Oz賞TuAgjӜH?S.T[Z46ĄG~sG¶-+jjBvdc*~upmWXoߔ4YYIIt5ׯ0CoԢO٫b;>d'u]{:88,%[y'JC"ens̚A 5zS~f pJHȧm &eMII96 4DȋG993|+\|tX=Yp7lL:ifFZג}9ԕ,8l1eVVntkv$E?䫦83dX{tg^fN8Ef=}8BW{i!杝f&<~:qc(la+|/'SZucL.}g7vڿ|o2HqxTͩ,=Z?p!{"qMWw.Y?½1 ǘ?Yoszy= fR0혃曇< <.WRzѶyJAAt"#jG7{|\6ԮZ7gHS*L>Tu!Z2-Vw%-[2,go+̺v/zfh@s-.V|}TxN ђhkv#1%^ǚ|ZԵ b A-H^ 6$pX]"P!RTJCxQ!xTt#2G*5x#-8vśO@L@}h\:?HgEiF #G[opa'>|Ƃ^T NŷDK"[D aK4?CcZ0 !F MGb&O#@Vd^h{AkY`˄T6h`ձ<)X+|OWjm9 F^Hv_( HXS˞\f$C[jk'PJ3mD[ _-D`44Xj5d*P%aP:GlmD3HйV:^&>!La`m:bE z uW$`i D@M#6BN RpLˁm$]BƟlCmAɨOֈ"Lx}FiT5 H?2'xyQ,ٞaً5Bl_f;[ZA;5M 䭅-&$3wkKG$a `b7t(@SL{⬇bT(|3,,Afr 5ԵM6Âֵgb2$3⩋jxjurm4^W FڶW[%#SsD}|i#NL1oLê {YSxktD*]ؘ 4Zs?4}vD3δv MOm'soBLbc/<%BlX+f'P6}Jk;=bP5VKhgaj 0iu.v){X%艵Qx~dէ"9A4t;y 5d7&%؂)c/y뮘1+Bk'S /*?z+.@Ri>9̍mĆ:tll#ƈ$i^YҚ>Uh|r,ȂGA_`7.tTF˝i 4C"!_UFv_`o10bQUd94:BPRQR:?>&R_/nnEͦ+n?o:,?o:3N 1tOй಩v_lP#L JBw jt&LV ܽѱvKhl\bChZ?DvKuV0˧. 'rjtt BgUH?ǿH`[9UCC[S 횫B8ȘNG <3~3o?s[axېĊMhw:9, 1ꨫ+B>,sHH$6lS"_s{B9Ia,/?8 [5Aœ FܦrVM%-Zh `p0{0fDyr<b6._"py8 ejWD7,c?As8 U"4~g?сCesavFtxH#?c#<6(}lԂY`*1/ 6w`-NM[5 Ldء&bľ$\J&[$Y"(n__E F6cD-z?9j  1Q,vjCsY'~PTf>* ^-|ڙ/ ?JZ?;-Pi7 nquRq姵US*,&l즩]I.Kx~wsuVa)K}q3]Ѽ]_}G~:AbcHB_WWKC2]q>u p_Fu kjŻB^"q@|T5yzq%R#' 5q?XlpD$%tpk:2; F({B,b2e!<0,4%xj џ!l ٠0q0vs͇Apl8k 7itY"frY^TlO"mYqҘNx>6xN¬@pT – Pa.krXtYL WB&G:ؔ@+ԝ @r?:86=V(2Zu-FO H]rvs9PB1E ? ΁G1OԪh ub Jso`; |X(P 4cʤ7*濎Д:zo<@@h Zm ]MmN+vt"ϻcĜiբ |0͏@ȈgfC3B #*g ݓNfaM\ev;o4 _GWuնp,o$ vB&@~`b 5.FgQtf;x&5&h uډ ZBQLkfHC̨le TY8v\m_U_MMdw6Ϯ?"IT#ÈYY`Z4"Y)*M%6`yGR!n*-!. T،oTzƖ AD{ `+~IEWD*; + ^V5<zMZI'IL2l2BAe"Ngz \i 29g6D72-rB[ -wR;?>Xu_]W\ Z]kߕKiaGfABhxh'hbFND6# ZÃ|3RiWs;}~՚-뚫E8Hl״3?F7y!2fc{7"慐`B_P\1oBྜྷIUS;qyj4u /ܐ3? mK%@_1W: D4:/K9uJ<%$SM|ך' |)ӂO JF?>GXgڨ#3 L[gxFZF@D%ȗ k _1_YT+'9u|8m*Ƕ4`/lo:Ct\s5ルڐ+;4uK߆`%RrC0NrG6SX.хh,o2MmYm-5o SA" =dO0 Tz2] XSGFƅ-K!!d!`Y"@(5 Z?_uúZE[*TTEQH-"(,$d$]f̙yo|4%q~A`\wqB"  pء'Q>q|k$vဖg(vGz|>yأs<9,Ӹ#A\gK<9nghxgHA[v/ᲃ%6Ab7S@'A ֩`S51ЀAtŒԊAş6;<06$@iph JH7y.LuB FpIGpˡ[FBEvWjpkˑ؃iCs4 Vo+<&j*_ NM !l)_Qg^ل}_6%Su)|$yli|)   ׯ}Mj} EIAF3}ך'l0dUbƲ9OJpVO}+Db OY    V?;03 󿅟@Fz F V(,Pw @FH\0D6-{e IÅ]|6s>$L c&`nS<1 rLE2 >"9R'g@+;21^`Bu aKqCGdj v y|V82;WHܩl J*wQz$g ب=kՄ=rOP-q=A/da-f))< (83\Iƅ:|z]vx 6=:* 7 fQNmW=+2/>|&6(Jox67B IJ{;b#8b#8b6 X.P\p D5*iL (08ךpFifc3*k((@.'QֺsyBͭXNXXf[t[G q qO\ LWLW=;U~-Wm?ld S])d e4&Iʄb;F$$a7hp\|^up]]ǿԺ1b_# IWg8O ÷?YeIygPđr{j> A #ߩ9OMSAN 0 ˯Ք M A0ɥ!)QPBw }9&w w%I2Me]S1q<9bWb0a-e{Ly1S$gdL=Bx8;Elpje1+WR9?SeyDK9XVcl ?g $Hf|m{ S=F꺼I.ZTGgҔ?ƿI^MZj6 ruۄƕNP\QV&ȤUXѤg۾=2\?MR:@A (@`U4q&\)Nт:`m(̳- DaFQk4 V j5_Z_mȜT$~]״/ELDDL2[7)0}ph +?45Ei U/(n*E/~1_m83i*h-;,WG:дACpSFiHСH[Ju\t-,;B#@z=D@ 6KՀ_L?Eoi V?r/MS=@)| U ,^LSV1SIC[ܢV'07( ej38qPlM6T-j@iR3(cBzoS͚ty5yx:PCIt/jk]1t&0I1O^t^Qnd\(Lтg(Cے|K}%*CLT 0|uF 7j27ylCV !GϣCؑ¹ʡG4c)~$/!*"߰4UW:MR BChh*(4E@y ; b܈();J䉉QgY %Q$\l$|AFn(cb.p ma?O(nv1Ui~=h=?0.T_ht,RUT)e@2H@ 56]Am..[! G(@6w;_[ߖ_Z6=&ME2c- BZ} 4Pmmlm5թ$Pq7UkP1\Qdh˥}@PVXH8XHԺGPi墍߅k=?\4tڴ   JiMA A vƑxG _1@Zq@q@4]QSO6N])x)϶C@T $؆ې` jbL?*C03E?!Cs6?!3AC_?=C߻\zڒ2'j֬+KvĦrH744,t3ʷJ0̋4NB %"%gs?,DύEit!Z?"3EY۝~|BI-K/Ѿ>fo?[wXY7-?<4}tY/|MɼN6#|MKd)[аc IUjI=Wx~Jj Tىɋ2Ws^+\\:ciz}R8g׍/v>\vz^C/=ۄm/zQZnݬQ _|;)ipMy[ZL*X`>v،_JE,?f1Sfفa'#?{aD;/.? ظ.Ǧ8 _l`ŷC֝Ϻ 'ސCfY-vCv\hըD_lY37nz?Wnߗפ!cVxG;9V9w)GpCLB]b|,{}t{O??˞|O[sB@u؛eqy9-;Eؗ܍}{VLZTh<*q`Nlem ::ׇO,yU]Vm>9/.v;q1enjÿJ^[6ưgշOw~uEs/}rُ=;Yiy~G+Ώ=q@Peڮ~fu窸!Y9ER\ٻN|أIZ q+G>`M}+l)֫mddX7d*rŋOw=;U;4rؽqYnz7CɋQ/L~Xr?'ɡ"}LaUĭs]8jM]}~Gr#woq<:WTYѭEZ~zIzgq>95xERφwk#N>}JmFGS9f=CbWl>gp6Y{Ӗ{ya77s}\e<\yٶ׽0kV{`l9ozΝ˥CǼ&,/~%gwl8h_nԩ,XglkʙD##;1Gֱ{rjN!e9{a^=G &Mì[=\qp,%?ڶ`}w&{ځ2>1Q] ,1y=#Օվi;6Y)9vߞ]E} [$Fa`莇ne...EqsqHiZw{9ܽ=n ws/Ĺ8R (.n-P( 507 Mޅz2#To JIQhG')/e"' DŽ[TJVBW&‹Lйq^uD+}\_<w_ 'SbiW H!2j]捚jw D&t ^&:oL8cZ" _=1Q$i=I%$6jdh .;@g89n57 fۇKIjʘZ (cMBRq8,<ʲ(G|L}㭶9kڃG6Ҷ24VIWyۚg c5oR3.|{4}M3U))VU,%^Oo%Ӽ_ڵ:۴*NX)VU8h4j_ϯDFD"g:4(Ɍ G+ '!KSen}M;$]YBBԃ+ˬ/f1%ʾ-EJh-HO⽐ZFsM%@|ddd=b תn5HWoQ[}Ƴ^ՄŽ4h,L y w@E2 ?ʍxZ%r:i_ΞƳO(=\6WqH\dL莭QYש_&8m-$9vYK YJrW4}|U&GE`'%v 52i5RWb14bˢ+ؿ +FƿKjJ2J QT. <8U]L/E_eh+jeN:m.:.6[u]Cfe+_r=HLOk~^_Cr sHE>܏5}# ёo$fcX&zdGq(3ϸrsey?,9>Z#tÒE l'iPxLpDaزe+mA7F9yVd揮iq. 3=s/ӨN:Gtb2^\70놵5UU'<}ؾQ4[ZX">zkl7\ ٘{RW%.7žc, `ϳwؚ;\'Q]ݧx;8p\nՁЅ oD' XjWb>8sUuuTa8s <:wDM#nԣ2zޟ8a͌*6Q=ZJ ]U(ۤrɞԁf)6 =42t2\)L0D1EGB^4gА^ ,vq, bJ>FxF>?p{NrIߧJe3&+5E,ҡәcB܅Y ;]cV^dS4Sq a=YL72IxKBm8KΉ)E@\w*S&%`VRۺg8rqCɎÊ&W>daeM @u*&0kBG=2:s,A1#"S$q}n+}dhI<$͛aox\c}KA>Ca -K{}'UzgԬyn˨Zg>ßCD]|衳EV;{gvW~fI#9בxGYZtv'&n5fωvqㄢ},QXgmP )E`4#+wF ?FKjcW-O?q0MZ>m_G Pt!"&f՝.τGqI <=j+xAEY^(HӮX-!# p;x$o 2WK/[?k_`bl']9ׇw2(`bic;a(@"";KJ6<ݲ8PrʪG㋜\܌,k7wuﵿVP`\L^t!xDB@Ll1"+/C#Ӄ 5K|J9, 0i\w3|+K~a.7TSs昁?ԜQ`(%k)3ќe)Y&8V~G@Y֥'5GpUUX{;z/ѯzϪy!??wu0*n` [J? dS2/ҭ>mm[Q),Q!~Or ;x|g-(:LU>r,&QqCُGxAY~B,Γb%&#doMɜwy &3nՀYU>Olwsb8ԓ0t)#zmq_oIpbNC!/3Pd烈Dk!7NnE'޵zc&I ;4ch휕Zy.JUxes I"_^-mpZ;6*#XCt諭Ф7ZrK]\A\v[7o.},u *BZe;BgbgE-?t*]0WbNuZXjᚊ``k)rcF Ak9R &lG1k,[cJݬ"F38˘lWsm9u?1 jvbIOl|بvuO f36Q[@V. יP