Package: AlphaMissense.v2023.hg38 Version: 3.18.2 Command: /home/biocbuild/bbs-3.21-bioc/R/bin/R CMD INSTALL AlphaMissense.v2023.hg38 StartedAt: 2025-01-29 06:30:18 -0500 (Wed, 29 Jan 2025) EndedAt: 2025-01-29 06:30:35 -0500 (Wed, 29 Jan 2025) EllapsedTime: 16.9 seconds RetCode: 0 Status: OK