Package: EpiTxDb.Sc.sacCer3 Version: 0.99.5 Command: /home/biocbuild/bbs-3.21-bioc/R/bin/R CMD build --keep-empty-dirs --no-resave-data EpiTxDb.Sc.sacCer3 StartedAt: 2025-02-05 06:31:16 -0500 (Wed, 05 Feb 2025) EndedAt: 2025-02-05 06:32:16 -0500 (Wed, 05 Feb 2025) EllapsedTime: 59.7 seconds RetCode: 0 Status: OK PackageFile: EpiTxDb.Sc.sacCer3_0.99.5.tar.gz PackageFileSize: 304.4 KiB