Package: EpiTxDb.Sc.sacCer3 Version: 0.99.5 Command: /home/biocbuild/bbs-3.21-bioc/R/bin/R CMD check --install=check:EpiTxDb.Sc.sacCer3.install-out.txt --library=/home/biocbuild/bbs-3.21-bioc/R/site-library --timings EpiTxDb.Sc.sacCer3_0.99.5.tar.gz StartedAt: 2025-02-05 06:33:37 -0500 (Wed, 05 Feb 2025) EndedAt: 2025-02-05 06:39:43 -0500 (Wed, 05 Feb 2025) EllapsedTime: 365.3 seconds RetCode: 0 Status: OK CheckDir: EpiTxDb.Sc.sacCer3.Rcheck Warnings: 0