Package: EpiTxDb.Sc.sacCer3 Version: 0.99.5 Command: /home/biocbuild/bbs-3.21-bioc/R/bin/R CMD INSTALL EpiTxDb.Sc.sacCer3 StartedAt: 2025-02-05 06:30:25 -0500 (Wed, 05 Feb 2025) EndedAt: 2025-02-05 06:31:03 -0500 (Wed, 05 Feb 2025) EllapsedTime: 38.1 seconds RetCode: 0 Status: OK