Package: JASPAR2022 Version: 0.99.8 Command: /home/biocbuild/bbs-3.21-bioc/R/bin/R CMD build --keep-empty-dirs --no-resave-data JASPAR2022 StartedAt: 2025-01-29 06:32:20 -0500 (Wed, 29 Jan 2025) EndedAt: 2025-01-29 06:32:45 -0500 (Wed, 29 Jan 2025) EllapsedTime: 24.2 seconds RetCode: 0 Status: OK PackageFile: JASPAR2022_0.99.8.tar.gz PackageFileSize: 276 KiB