Package: JASPAR2024 Version: 0.99.7 Command: /home/biocbuild/bbs-3.21-bioc/R/bin/R CMD check --install=check:JASPAR2024.install-out.txt --library=/home/biocbuild/bbs-3.21-bioc/R/site-library --timings JASPAR2024_0.99.7.tar.gz StartedAt: 2025-02-05 06:34:26 -0500 (Wed, 05 Feb 2025) EndedAt: 2025-02-05 06:35:02 -0500 (Wed, 05 Feb 2025) EllapsedTime: 36.5 seconds RetCode: 0 Status: OK CheckDir: JASPAR2024.Rcheck Warnings: 0