Package: MPO.db Version: 0.99.8 Command: /home/biocbuild/bbs-3.21-bioc/R/bin/R CMD INSTALL MPO.db StartedAt: 2025-02-05 06:30:17 -0500 (Wed, 05 Feb 2025) EndedAt: 2025-02-05 06:30:42 -0500 (Wed, 05 Feb 2025) EllapsedTime: 24.3 seconds RetCode: 0 Status: OK