Package: geneplast.data Version: 0.99.9 Command: /home/biocbuild/bbs-3.21-bioc/R/bin/R CMD check --install=check:geneplast.data.install-out.txt --library=/home/biocbuild/bbs-3.21-bioc/R/site-library --timings geneplast.data_0.99.9.tar.gz StartedAt: 2025-02-05 06:33:45 -0500 (Wed, 05 Feb 2025) EndedAt: 2025-02-05 06:34:51 -0500 (Wed, 05 Feb 2025) EllapsedTime: 66.4 seconds RetCode: 0 Status: OK CheckDir: geneplast.data.Rcheck Warnings: 0