Package: rGenomeTracksData Version: 0.99.0 Command: /home/biocbuild/bbs-3.21-bioc/R/bin/R CMD check --install=check:rGenomeTracksData.install-out.txt --library=/home/biocbuild/bbs-3.21-bioc/R/site-library --timings rGenomeTracksData_0.99.0.tar.gz StartedAt: 2025-02-05 06:34:45 -0500 (Wed, 05 Feb 2025) EndedAt: 2025-02-05 06:35:20 -0500 (Wed, 05 Feb 2025) EllapsedTime: 34.9 seconds RetCode: 0 Status: OK CheckDir: rGenomeTracksData.Rcheck Warnings: 0