Package: scAnnotatR.models Version: 0.99.10 Command: /home/biocbuild/bbs-3.21-bioc/R/bin/R CMD build --keep-empty-dirs --no-resave-data scAnnotatR.models StartedAt: 2025-02-05 06:32:16 -0500 (Wed, 05 Feb 2025) EndedAt: 2025-02-05 06:33:05 -0500 (Wed, 05 Feb 2025) EllapsedTime: 49.2 seconds RetCode: 0 Status: OK PackageFile: scAnnotatR.models_0.99.10.tar.gz PackageFileSize: 13.13 KiB