Package: ALL Version: 1.49.0 Command: /home/biocbuild/bbs-3.21-bioc/R/bin/R CMD check --install=check:ALL.install-out.txt --library=/home/biocbuild/bbs-3.21-bioc/R/site-library --timings ALL_1.49.0.tar.gz StartedAt: 2025-02-04 11:47:02 -0500 (Tue, 04 Feb 2025) EndedAt: 2025-02-04 11:47:34 -0500 (Tue, 04 Feb 2025) EllapsedTime: 31.5 seconds RetCode: 0 Status: OK CheckDir: ALL.Rcheck Warnings: 0