Package: Affyhgu133A2Expr Version: 1.43.0 Command: /home/biocbuild/bbs-3.21-bioc/R/bin/R CMD build --keep-empty-dirs --no-resave-data Affyhgu133A2Expr StartedAt: 2025-02-04 11:07:20 -0500 (Tue, 04 Feb 2025) EndedAt: 2025-02-04 11:07:22 -0500 (Tue, 04 Feb 2025) EllapsedTime: 2.0 seconds RetCode: 0 Status: OK PackageFile: Affyhgu133A2Expr_1.43.0.tar.gz PackageFileSize: 8.838 MiB