Package: Affyhgu133A2Expr Version: 1.43.0 Command: /home/biocbuild/bbs-3.21-bioc/R/bin/R CMD INSTALL Affyhgu133A2Expr StartedAt: 2025-02-04 10:55:08 -0500 (Tue, 04 Feb 2025) EndedAt: 2025-02-04 10:55:10 -0500 (Tue, 04 Feb 2025) EllapsedTime: 1.2 seconds RetCode: 0 Status: OK