Package: Affyhgu133Plus2Expr Version: 1.41.0 Command: /home/biocbuild/bbs-3.21-bioc/R/bin/R CMD build --keep-empty-dirs --no-resave-data Affyhgu133Plus2Expr StartedAt: 2025-02-06 11:07:16 -0500 (Thu, 06 Feb 2025) EndedAt: 2025-02-06 11:07:32 -0500 (Thu, 06 Feb 2025) EllapsedTime: 16.0 seconds RetCode: 0 Status: OK PackageFile: Affyhgu133Plus2Expr_1.41.0.tar.gz PackageFileSize: 224.4 MiB