Package: Affyhgu133Plus2Expr Version: 1.41.0 Command: /home/biocbuild/bbs-3.21-bioc/R/bin/R CMD check --install=check:Affyhgu133Plus2Expr.install-out.txt --library=/home/biocbuild/bbs-3.21-bioc/R/site-library --timings Affyhgu133Plus2Expr_1.41.0.tar.gz StartedAt: 2025-02-04 11:47:02 -0500 (Tue, 04 Feb 2025) EndedAt: 2025-02-04 11:47:22 -0500 (Tue, 04 Feb 2025) EllapsedTime: 20.3 seconds RetCode: 0 Status: OK CheckDir: Affyhgu133Plus2Expr.Rcheck Warnings: 0