Package: Affyhgu133Plus2Expr Version: 1.41.0 Command: /home/biocbuild/bbs-3.21-bioc/R/bin/R CMD INSTALL Affyhgu133Plus2Expr StartedAt: 2025-02-06 10:55:38 -0500 (Thu, 06 Feb 2025) EndedAt: 2025-02-06 10:55:41 -0500 (Thu, 06 Feb 2025) EllapsedTime: 2.8 seconds RetCode: 0 Status: OK