Package: Affyhgu133aExpr Version: 1.45.0 Command: /home/biocbuild/bbs-3.21-bioc/R/bin/R CMD build --keep-empty-dirs --no-resave-data Affyhgu133aExpr StartedAt: 2025-02-04 11:07:20 -0500 (Tue, 04 Feb 2025) EndedAt: 2025-02-04 11:07:42 -0500 (Tue, 04 Feb 2025) EllapsedTime: 21.9 seconds RetCode: 0 Status: OK PackageFile: Affyhgu133aExpr_1.45.0.tar.gz PackageFileSize: 316.1 MiB