Package: Affyhgu133aExpr Version: 1.45.0 Command: /home/biocbuild/bbs-3.21-bioc/R/bin/R CMD INSTALL Affyhgu133aExpr StartedAt: 2025-02-04 10:55:39 -0500 (Tue, 04 Feb 2025) EndedAt: 2025-02-04 10:55:44 -0500 (Tue, 04 Feb 2025) EllapsedTime: 4.9 seconds RetCode: 0 Status: OK