Package: AffymetrixDataTestFiles Version: 0.45.0 Command: /home/biocbuild/bbs-3.21-bioc/R/bin/R CMD check --install=check:AffymetrixDataTestFiles.install-out.txt --library=/home/biocbuild/bbs-3.21-bioc/R/site-library --timings AffymetrixDataTestFiles_0.45.0.tar.gz StartedAt: 2025-02-13 11:47:19 -0500 (Thu, 13 Feb 2025) EndedAt: 2025-02-13 11:47:37 -0500 (Thu, 13 Feb 2025) EllapsedTime: 17.9 seconds RetCode: 0 Status: OK CheckDir: AffymetrixDataTestFiles.Rcheck Warnings: 0