Package: BioPlex Version: 1.13.0 Command: /home/biocbuild/bbs-3.21-bioc/R/bin/R CMD INSTALL BioPlex StartedAt: 2025-02-06 10:58:36 -0500 (Thu, 06 Feb 2025) EndedAt: 2025-02-06 10:58:54 -0500 (Thu, 06 Feb 2025) EllapsedTime: 18.5 seconds RetCode: 0 Status: OK