Package: COPDSexualDimorphism.data Version: 1.43.0 Command: /home/biocbuild/bbs-3.21-bioc/R/bin/R CMD build --keep-empty-dirs --no-resave-data COPDSexualDimorphism.data StartedAt: 2025-02-04 11:11:04 -0500 (Tue, 04 Feb 2025) EndedAt: 2025-02-04 11:11:11 -0500 (Tue, 04 Feb 2025) EllapsedTime: 7.3 seconds RetCode: 0 Status: OK PackageFile: COPDSexualDimorphism.data_1.43.0.tar.gz PackageFileSize: 34.3 MiB