Package: COPDSexualDimorphism.data Version: 1.43.0 Command: /home/biocbuild/bbs-3.21-bioc/R/bin/R CMD INSTALL COPDSexualDimorphism.data StartedAt: 2025-02-04 10:55:08 -0500 (Tue, 04 Feb 2025) EndedAt: 2025-02-04 10:55:11 -0500 (Tue, 04 Feb 2025) EllapsedTime: 2.7 seconds RetCode: 0 Status: OK