Package: COSMIC.67 Version: 1.43.0 Command: /home/biocbuild/bbs-3.21-bioc/R/bin/R CMD build --keep-empty-dirs --no-resave-data COSMIC.67 StartedAt: 2025-02-06 11:11:10 -0500 (Thu, 06 Feb 2025) EndedAt: 2025-02-06 11:12:13 -0500 (Thu, 06 Feb 2025) EllapsedTime: 63.1 seconds RetCode: 0 Status: OK PackageFile: COSMIC.67_1.43.0.tar.gz PackageFileSize: 39.18 MiB