Package: COSMIC.67 Version: 1.43.0 Command: /home/biocbuild/bbs-3.21-bioc/R/bin/R CMD INSTALL COSMIC.67 StartedAt: 2025-02-06 11:03:23 -0500 (Thu, 06 Feb 2025) EndedAt: 2025-02-06 11:03:58 -0500 (Thu, 06 Feb 2025) EllapsedTime: 35.3 seconds RetCode: 0 Status: OK