Package: CellMapperData Version: 1.33.0 Command: /home/biocbuild/bbs-3.21-bioc/R/bin/R CMD build --keep-empty-dirs --no-resave-data CellMapperData StartedAt: 2025-02-06 11:08:59 -0500 (Thu, 06 Feb 2025) EndedAt: 2025-02-06 11:09:23 -0500 (Thu, 06 Feb 2025) EllapsedTime: 23.3 seconds RetCode: 0 Status: OK PackageFile: CellMapperData_1.33.0.tar.gz PackageFileSize: 147.3 KiB