Package: CellMapperData Version: 1.33.0 Command: /home/biocbuild/bbs-3.21-bioc/R/bin/R CMD INSTALL CellMapperData StartedAt: 2025-02-13 10:57:25 -0500 (Thu, 13 Feb 2025) EndedAt: 2025-02-13 10:57:34 -0500 (Thu, 13 Feb 2025) EllapsedTime: 9.9 seconds RetCode: 0 Status: OK