Package: ChIPXpressData Version: 1.45.0 Command: /home/biocbuild/bbs-3.21-bioc/R/bin/R CMD check --install=check:ChIPXpressData.install-out.txt --library=/home/biocbuild/bbs-3.21-bioc/R/site-library --timings ChIPXpressData_1.45.0.tar.gz StartedAt: 2025-02-13 11:52:22 -0500 (Thu, 13 Feb 2025) EndedAt: 2025-02-13 11:55:39 -0500 (Thu, 13 Feb 2025) EllapsedTime: 196.3 seconds RetCode: 0 Status: WARNINGS CheckDir: ChIPXpressData.Rcheck Warnings: 1