Package: ChIPXpressData Version: 1.45.0 Command: /home/biocbuild/bbs-3.21-bioc/R/bin/R CMD INSTALL ChIPXpressData StartedAt: 2025-02-06 10:55:59 -0500 (Thu, 06 Feb 2025) EndedAt: 2025-02-06 10:56:23 -0500 (Thu, 06 Feb 2025) EllapsedTime: 23.8 seconds RetCode: 0 Status: OK