Package: ChIPexoQualExample Version: 1.31.0 Command: /home/biocbuild/bbs-3.21-bioc/R/bin/R CMD build --keep-empty-dirs --no-resave-data ChIPexoQualExample StartedAt: 2025-02-06 11:09:31 -0500 (Thu, 06 Feb 2025) EndedAt: 2025-02-06 11:09:45 -0500 (Thu, 06 Feb 2025) EllapsedTime: 13.7 seconds RetCode: 0 Status: OK PackageFile: ChIPexoQualExample_1.31.0.tar.gz PackageFileSize: 152.3 MiB