Package: ChimpHumanBrainData Version: 1.45.0 Command: /home/biocbuild/bbs-3.21-bioc/R/bin/R CMD check --install=check:ChimpHumanBrainData.install-out.txt --library=/home/biocbuild/bbs-3.21-bioc/R/site-library --timings ChimpHumanBrainData_1.45.0.tar.gz StartedAt: 2025-02-06 11:51:12 -0500 (Thu, 06 Feb 2025) EndedAt: 2025-02-06 11:52:13 -0500 (Thu, 06 Feb 2025) EllapsedTime: 61.3 seconds RetCode: 0 Status: OK CheckDir: ChimpHumanBrainData.Rcheck Warnings: 0