Package: CopyNeutralIMA Version: 1.25.0 Command: /home/biocbuild/bbs-3.21-bioc/R/bin/R CMD INSTALL CopyNeutralIMA StartedAt: 2025-02-06 11:03:41 -0500 (Thu, 06 Feb 2025) EndedAt: 2025-02-06 11:03:59 -0500 (Thu, 06 Feb 2025) EllapsedTime: 17.3 seconds RetCode: 0 Status: OK